BEGIN:VCALENDAR
VERSION:2.0
PRODID:-//Alaska Lions Events - ECPv6.15.20//NONSGML v1.0//EN
CALSCALE:GREGORIAN
METHOD:PUBLISH
X-WR-CALNAME:Alaska Lions Events
X-ORIGINAL-URL:https://md49lionevents.org
X-WR-CALDESC:Events for Alaska Lions Events
REFRESH-INTERVAL;VALUE=DURATION:PT1H
X-Robots-Tag:noindex
X-PUBLISHED-TTL:PT1H
BEGIN:VTIMEZONE
TZID:America/Anchorage
BEGIN:DAYLIGHT
TZOFFSETFROM:-0900
TZOFFSETTO:-0800
TZNAME:AKDT
DTSTART:20240310T110000
END:DAYLIGHT
BEGIN:STANDARD
TZOFFSETFROM:-0800
TZOFFSETTO:-0900
TZNAME:AKST
DTSTART:20241103T100000
END:STANDARD
BEGIN:DAYLIGHT
TZOFFSETFROM:-0900
TZOFFSETTO:-0800
TZNAME:AKDT
DTSTART:20250309T110000
END:DAYLIGHT
BEGIN:STANDARD
TZOFFSETFROM:-0800
TZOFFSETTO:-0900
TZNAME:AKST
DTSTART:20251102T100000
END:STANDARD
BEGIN:DAYLIGHT
TZOFFSETFROM:-0900
TZOFFSETTO:-0800
TZNAME:AKDT
DTSTART:20260308T110000
END:DAYLIGHT
BEGIN:STANDARD
TZOFFSETFROM:-0800
TZOFFSETTO:-0900
TZNAME:AKST
DTSTART:20261101T100000
END:STANDARD
END:VTIMEZONE
BEGIN:VEVENT
DTSTART;TZID=America/Anchorage:20250329T100000
DTEND;TZID=America/Anchorage:20250330T180000
DTSTAMP:20260421T113646
CREATED:20250302T205212Z
LAST-MODIFIED:20250409T023648Z
UID:398-1743242400-1743357600@md49lionevents.org
SUMMARY:Palmer Lions 57th Annual Gun Show
DESCRIPTION:  \n \n  \n  \nBe sure to “SCOPE” out the 57th Annual Lions’ Gun Show Saturday and Sunday\, March 29 and 30\, 2025 at the Alaska State Fairgrounds open at 1PM\n  \n  \n  \n 
URL:https://md49lionevents.org/event/palmer-lions-57th-annual-gun-show/
LOCATION:Raven Hall at Alaska State Fairgrounds\, 2075 Glen Hwy\, Palmer\, AK\, 99645\, United States
END:VEVENT
END:VCALENDAR