BEGIN:VCALENDAR
VERSION:2.0
PRODID:-//Alaska Lions Events - ECPv6.15.20//NONSGML v1.0//EN
CALSCALE:GREGORIAN
METHOD:PUBLISH
X-WR-CALNAME:Alaska Lions Events
X-ORIGINAL-URL:https://md49lionevents.org
X-WR-CALDESC:Events for Alaska Lions Events
REFRESH-INTERVAL;VALUE=DURATION:PT1H
X-Robots-Tag:noindex
X-PUBLISHED-TTL:PT1H
BEGIN:VTIMEZONE
TZID:America/Anchorage
BEGIN:DAYLIGHT
TZOFFSETFROM:-0900
TZOFFSETTO:-0800
TZNAME:AKDT
DTSTART:20240310T110000
END:DAYLIGHT
BEGIN:STANDARD
TZOFFSETFROM:-0800
TZOFFSETTO:-0900
TZNAME:AKST
DTSTART:20241103T100000
END:STANDARD
BEGIN:DAYLIGHT
TZOFFSETFROM:-0900
TZOFFSETTO:-0800
TZNAME:AKDT
DTSTART:20250309T110000
END:DAYLIGHT
BEGIN:STANDARD
TZOFFSETFROM:-0800
TZOFFSETTO:-0900
TZNAME:AKST
DTSTART:20251102T100000
END:STANDARD
BEGIN:DAYLIGHT
TZOFFSETFROM:-0900
TZOFFSETTO:-0800
TZNAME:AKDT
DTSTART:20260308T110000
END:DAYLIGHT
BEGIN:STANDARD
TZOFFSETFROM:-0800
TZOFFSETTO:-0900
TZNAME:AKST
DTSTART:20261101T100000
END:STANDARD
END:VTIMEZONE
BEGIN:VEVENT
DTSTART;TZID=America/Anchorage:20250418T090000
DTEND;TZID=America/Anchorage:20250419T180000
DTSTAMP:20260421T101133
CREATED:20250318T060204Z
LAST-MODIFIED:20250409T021654Z
UID:877-1744966800-1745085600@md49lionevents.org
SUMMARY:Fox Lions Easter Bake Sale
DESCRIPTION:
URL:https://md49lionevents.org/event/fox-lions-easter-bake-sale/
LOCATION:Fox General Store\, 2226 Old Steese Highway\, Fairbanks\, AK\, United States
END:VEVENT
BEGIN:VEVENT
DTSTART;TZID=America/Anchorage:20250419T090000
DTEND;TZID=America/Anchorage:20250419T130000
DTSTAMP:20260421T101133
CREATED:20250402T194240Z
LAST-MODIFIED:20250409T021535Z
UID:951-1745053200-1745067600@md49lionevents.org
SUMMARY:Eyeglass Recycling Day
DESCRIPTION:Come on in and help us with our cause.\nThere are stations ready for you.
URL:https://md49lionevents.org/event/eyeglass-recycling-2/
LOCATION:Aurora Borealis Lions Eyeglass Recycling Center\, 2925 Newby Rd\, North Pole\, AK\, United States
END:VEVENT
END:VCALENDAR