BEGIN:VCALENDAR
VERSION:2.0
PRODID:-//Alaska Lions Events - ECPv6.15.20//NONSGML v1.0//EN
CALSCALE:GREGORIAN
METHOD:PUBLISH
X-ORIGINAL-URL:https://md49lionevents.org
X-WR-CALDESC:Events for Alaska Lions Events
REFRESH-INTERVAL;VALUE=DURATION:PT1H
X-Robots-Tag:noindex
X-PUBLISHED-TTL:PT1H
BEGIN:VTIMEZONE
TZID:America/Anchorage
BEGIN:DAYLIGHT
TZOFFSETFROM:-0900
TZOFFSETTO:-0800
TZNAME:AKDT
DTSTART:20240310T110000
END:DAYLIGHT
BEGIN:STANDARD
TZOFFSETFROM:-0800
TZOFFSETTO:-0900
TZNAME:AKST
DTSTART:20241103T100000
END:STANDARD
BEGIN:DAYLIGHT
TZOFFSETFROM:-0900
TZOFFSETTO:-0800
TZNAME:AKDT
DTSTART:20250309T110000
END:DAYLIGHT
BEGIN:STANDARD
TZOFFSETFROM:-0800
TZOFFSETTO:-0900
TZNAME:AKST
DTSTART:20251102T100000
END:STANDARD
BEGIN:DAYLIGHT
TZOFFSETFROM:-0900
TZOFFSETTO:-0800
TZNAME:AKDT
DTSTART:20260308T110000
END:DAYLIGHT
BEGIN:STANDARD
TZOFFSETFROM:-0800
TZOFFSETTO:-0900
TZNAME:AKST
DTSTART:20261101T100000
END:STANDARD
END:VTIMEZONE
BEGIN:VEVENT
DTSTART;VALUE=DATE:20250504
DTEND;VALUE=DATE:20250511
DTSTAMP:20260421T083035
CREATED:20250506T221152Z
LAST-MODIFIED:20250506T221244Z
UID:1408-1746316800-1746921599@md49lionevents.org
SUMMARY:Big Lake Spring Cleanup
DESCRIPTION:The Lions will be taking care of all of Big Lake’s roads. We ask that you bring the filled bags to Big Lake Rd for pick-up.\nYou can also go online and apply for a clean up in an area that you know needs help. The applicant is then responsible for transferring bags to transfer station but as long as it’s the clean up bags and on the dates you applied for it’s no cost for you.
URL:https://md49lionevents.org/event/big-lake-spring-cleanup/
LOCATION:Big Lake Road\, Big Lake Rd Easement\, Big Lake\, AK\, United States
END:VEVENT
END:VCALENDAR