BEGIN:VCALENDAR
VERSION:2.0
PRODID:-//Alaska Lions Events - ECPv6.15.20//NONSGML v1.0//EN
CALSCALE:GREGORIAN
METHOD:PUBLISH
X-WR-CALNAME:Alaska Lions Events
X-ORIGINAL-URL:https://md49lionevents.org
X-WR-CALDESC:Events for Alaska Lions Events
REFRESH-INTERVAL;VALUE=DURATION:PT1H
X-Robots-Tag:noindex
X-PUBLISHED-TTL:PT1H
BEGIN:VTIMEZONE
TZID:America/Anchorage
BEGIN:DAYLIGHT
TZOFFSETFROM:-0900
TZOFFSETTO:-0800
TZNAME:AKDT
DTSTART:20240310T110000
END:DAYLIGHT
BEGIN:STANDARD
TZOFFSETFROM:-0800
TZOFFSETTO:-0900
TZNAME:AKST
DTSTART:20241103T100000
END:STANDARD
BEGIN:DAYLIGHT
TZOFFSETFROM:-0900
TZOFFSETTO:-0800
TZNAME:AKDT
DTSTART:20250309T110000
END:DAYLIGHT
BEGIN:STANDARD
TZOFFSETFROM:-0800
TZOFFSETTO:-0900
TZNAME:AKST
DTSTART:20251102T100000
END:STANDARD
BEGIN:DAYLIGHT
TZOFFSETFROM:-0900
TZOFFSETTO:-0800
TZNAME:AKDT
DTSTART:20260308T110000
END:DAYLIGHT
BEGIN:STANDARD
TZOFFSETFROM:-0800
TZOFFSETTO:-0900
TZNAME:AKST
DTSTART:20261101T100000
END:STANDARD
END:VTIMEZONE
BEGIN:VEVENT
DTSTART;VALUE=DATE:20250725
DTEND;VALUE=DATE:20250804
DTSTAMP:20260421T032747
CREATED:20250307T021846Z
LAST-MODIFIED:20250408T204701Z
UID:731-1753401600-1754265599@md49lionevents.org
SUMMARY:Bingo and Pull Tabs at the Tanana Valley State Fair
DESCRIPTION:Come enjoy bingo the old fashion way!\n$1 per card for bingo and pull tabs. Proceeds benefit local nonprofits. \nSunday thru Thursday   12PM to 10 PM \nFriday and Saturday.     12PM to 12 AM
URL:https://md49lionevents.org/event/bingo-and-pull-tabs-at-the-tanana-valley-state-fair/
LOCATION:Tanana Valley State Fair\, 1800 College Rd\, Fairbanks\, AK\, 99709\, United States
END:VEVENT
BEGIN:VEVENT
DTSTART;TZID=America/Anchorage:20250803T130000
DTEND;TZID=America/Anchorage:20250803T160000
DTSTAMP:20260421T032747
CREATED:20250803T030710Z
LAST-MODIFIED:20250803T030710Z
UID:1615-1754226000-1754236800@md49lionevents.org
SUMMARY:Club Officer Training
DESCRIPTION:What are the duties of a Club President? Or Secretary? Or Treasurer?\nHow do you know if you are doing a good job as a Club Officer?\nCome to the District 49A Global Leadership Team’s Club Officer Training classes to find out how to be a good Club Officer. \n\nNo registration required.
URL:https://md49lionevents.org/event/club-officer-training/
LOCATION:Mt View Lions Club House\, 501 N Pine St\, Anchorage\, AK\, 99508\, United States
END:VEVENT
END:VCALENDAR