BEGIN:VCALENDAR
VERSION:2.0
PRODID:-//Alaska Lions Events - ECPv6.15.20//NONSGML v1.0//EN
CALSCALE:GREGORIAN
METHOD:PUBLISH
X-ORIGINAL-URL:https://md49lionevents.org
X-WR-CALDESC:Events for Alaska Lions Events
REFRESH-INTERVAL;VALUE=DURATION:PT1H
X-Robots-Tag:noindex
X-PUBLISHED-TTL:PT1H
BEGIN:VTIMEZONE
TZID:America/Anchorage
BEGIN:DAYLIGHT
TZOFFSETFROM:-0900
TZOFFSETTO:-0800
TZNAME:AKDT
DTSTART:20240310T110000
END:DAYLIGHT
BEGIN:STANDARD
TZOFFSETFROM:-0800
TZOFFSETTO:-0900
TZNAME:AKST
DTSTART:20241103T100000
END:STANDARD
BEGIN:DAYLIGHT
TZOFFSETFROM:-0900
TZOFFSETTO:-0800
TZNAME:AKDT
DTSTART:20250309T110000
END:DAYLIGHT
BEGIN:STANDARD
TZOFFSETFROM:-0800
TZOFFSETTO:-0900
TZNAME:AKST
DTSTART:20251102T100000
END:STANDARD
BEGIN:DAYLIGHT
TZOFFSETFROM:-0900
TZOFFSETTO:-0800
TZNAME:AKDT
DTSTART:20260308T110000
END:DAYLIGHT
BEGIN:STANDARD
TZOFFSETFROM:-0800
TZOFFSETTO:-0900
TZNAME:AKST
DTSTART:20261101T100000
END:STANDARD
END:VTIMEZONE
BEGIN:VEVENT
DTSTART;VALUE=DATE:20251113
DTEND;VALUE=DATE:20251116
DTSTAMP:20260419T125230
CREATED:20250303T195846Z
LAST-MODIFIED:20250408T192134Z
UID:576-1762992000-1763251199@md49lionevents.org
SUMMARY:District 49A Midwinter Conference
DESCRIPTION:DG Robert Posma’s Annual Midwinter Conference for all clubs in District 49A\n 
URL:https://md49lionevents.org/event/district-49a-midwinter-conference/
LOCATION:Lakefront Hotel\, 4800 Spenard Rd\, Anchorage\, AK\, 99517\, United States
END:VEVENT
BEGIN:VEVENT
DTSTART;TZID=America/Anchorage:20251114T180000
DTEND;TZID=America/Anchorage:20251114T220000
DTSTAMP:20260419T125230
CREATED:20250306T040352Z
LAST-MODIFIED:20250408T185017Z
UID:688-1763143200-1763157600@md49lionevents.org
SUMMARY:75th Anniversary Celebration
DESCRIPTION:The Friday night banquet at the 49A Midwinter will be a 75th Anniversary Celebration for two of our District 49A Lions Clubs\, the Spenard Lions and the Mt. McKinley Lions. \nThe Spenard Lions’ charter date is 11/20/50 and Mt McKinley Lions’ is 11/29/50. \n 
URL:https://md49lionevents.org/event/75th-anniversary-celebration/
LOCATION:Lakefront Hotel\, 4800 Spenard Rd\, Anchorage\, AK\, 99517\, United States
END:VEVENT
END:VCALENDAR