BEGIN:VCALENDAR
VERSION:2.0
PRODID:-//Alaska Lions Events - ECPv6.15.20//NONSGML v1.0//EN
CALSCALE:GREGORIAN
METHOD:PUBLISH
X-ORIGINAL-URL:https://md49lionevents.org
X-WR-CALDESC:Events for Alaska Lions Events
REFRESH-INTERVAL;VALUE=DURATION:PT1H
X-Robots-Tag:noindex
X-PUBLISHED-TTL:PT1H
BEGIN:VTIMEZONE
TZID:America/Anchorage
BEGIN:DAYLIGHT
TZOFFSETFROM:-0900
TZOFFSETTO:-0800
TZNAME:AKDT
DTSTART:20240310T110000
END:DAYLIGHT
BEGIN:STANDARD
TZOFFSETFROM:-0800
TZOFFSETTO:-0900
TZNAME:AKST
DTSTART:20241103T100000
END:STANDARD
BEGIN:DAYLIGHT
TZOFFSETFROM:-0900
TZOFFSETTO:-0800
TZNAME:AKDT
DTSTART:20250309T110000
END:DAYLIGHT
BEGIN:STANDARD
TZOFFSETFROM:-0800
TZOFFSETTO:-0900
TZNAME:AKST
DTSTART:20251102T100000
END:STANDARD
BEGIN:DAYLIGHT
TZOFFSETFROM:-0900
TZOFFSETTO:-0800
TZNAME:AKDT
DTSTART:20260308T110000
END:DAYLIGHT
BEGIN:STANDARD
TZOFFSETFROM:-0800
TZOFFSETTO:-0900
TZNAME:AKST
DTSTART:20261101T100000
END:STANDARD
END:VTIMEZONE
BEGIN:VEVENT
DTSTART;VALUE=DATE:20251126
DTEND;VALUE=DATE:20251217
DTSTAMP:20260419T111521
CREATED:20251201T223629Z
LAST-MODIFIED:20251201T223629Z
UID:1866-1764115200-1765929599@md49lionevents.org
SUMMARY:Sleeping Lady Mt Lions “TREE OF GIVNG”
DESCRIPTION:Tree of Giving Merchant Locations\n(November 26- December 16)Jitter’sFirst National Bank AlaskaGreat Alaska Pizza CoCountry Financial Melissa IzattHarry J McDonald CenterJason’s Donuts
URL:https://md49lionevents.org/event/sleeping-lady-mt-lions-tree-of-givng/
LOCATION:Eagle River\, AK\, United States
END:VEVENT
BEGIN:VEVENT
DTSTART;TZID=America/Anchorage:20251203T080000
DTEND;TZID=America/Anchorage:20251203T170000
DTSTAMP:20260419T111521
CREATED:20250303T202522Z
LAST-MODIFIED:20250408T173037Z
UID:585-1764748800-1764781200@md49lionevents.org
SUMMARY:Willow Lions Giving Tree and Toy Donation
DESCRIPTION:Check out what our Lions Giving Tree project. Last year ww had a wonderful time wrapping gifts for 114 of our community children in need! \nGiving tree tags:                                                Toy donations: \n1 take a take for a boy or girl and age.          1 Teenagers-  tools\, bball\, vball\, games\, sleds\, candles \n2 they have ideas of what they want.            2  preteens- craft kits\, games\, fishing supplies\, frisbee \n3 return unwrapped gift to Library.                3  we need  gifts for older age kids but a toy will do
URL:https://md49lionevents.org/event/willow-lions-giving-tree-and-toy-donation/
LOCATION:Willow Community Center\, MP 69.5 Parks Highway\, Willow\, AK\, 99688\, United States
END:VEVENT
END:VCALENDAR