BEGIN:VCALENDAR
VERSION:2.0
PRODID:-//Alaska Lions Events - ECPv6.15.20//NONSGML v1.0//EN
CALSCALE:GREGORIAN
METHOD:PUBLISH
X-WR-CALNAME:Alaska Lions Events
X-ORIGINAL-URL:https://md49lionevents.org
X-WR-CALDESC:Events for Alaska Lions Events
REFRESH-INTERVAL;VALUE=DURATION:PT1H
X-Robots-Tag:noindex
X-PUBLISHED-TTL:PT1H
BEGIN:VTIMEZONE
TZID:America/Anchorage
BEGIN:DAYLIGHT
TZOFFSETFROM:-0900
TZOFFSETTO:-0800
TZNAME:AKDT
DTSTART:20240310T110000
END:DAYLIGHT
BEGIN:STANDARD
TZOFFSETFROM:-0800
TZOFFSETTO:-0900
TZNAME:AKST
DTSTART:20241103T100000
END:STANDARD
BEGIN:DAYLIGHT
TZOFFSETFROM:-0900
TZOFFSETTO:-0800
TZNAME:AKDT
DTSTART:20250309T110000
END:DAYLIGHT
BEGIN:STANDARD
TZOFFSETFROM:-0800
TZOFFSETTO:-0900
TZNAME:AKST
DTSTART:20251102T100000
END:STANDARD
BEGIN:DAYLIGHT
TZOFFSETFROM:-0900
TZOFFSETTO:-0800
TZNAME:AKDT
DTSTART:20260308T110000
END:DAYLIGHT
BEGIN:STANDARD
TZOFFSETFROM:-0800
TZOFFSETTO:-0900
TZNAME:AKST
DTSTART:20261101T100000
END:STANDARD
END:VTIMEZONE
BEGIN:VEVENT
DTSTART;TZID=America/Anchorage:20251220T190000
DTEND;TZID=America/Anchorage:20251220T210000
DTSTAMP:20260419T111145
CREATED:20251122T182445Z
LAST-MODIFIED:20251219T195403Z
UID:1845-1766257200-1766264400@md49lionevents.org
SUMMARY:Big Lake Lions Christmas Parade
DESCRIPTION:Join us for our Annual Christmas Parade of Lights!\nThe parade will start at 7pm.\nAll registered vehicles will line up at the Big Lake Elementary Bus loop\, and drive along Big Lake Road through the Roundabout.\nLink to Register in the Parade:\n            https://forms.gle/AkzviZPdzFJFbmPi6
URL:https://md49lionevents.org/event/big-lake-lions-christmas-parade/
LOCATION:Big Lake Lions Rec\, 3261 S Big Lake Rd\, Wasilla\, AK\, 99623-9663\, United States
END:VEVENT
END:VCALENDAR