BEGIN:VCALENDAR
VERSION:2.0
PRODID:-//Alaska Lions Events - ECPv6.15.20//NONSGML v1.0//EN
CALSCALE:GREGORIAN
METHOD:PUBLISH
X-ORIGINAL-URL:https://md49lionevents.org
X-WR-CALDESC:Events for Alaska Lions Events
REFRESH-INTERVAL;VALUE=DURATION:PT1H
X-Robots-Tag:noindex
X-PUBLISHED-TTL:PT1H
BEGIN:VTIMEZONE
TZID:America/Anchorage
BEGIN:DAYLIGHT
TZOFFSETFROM:-0900
TZOFFSETTO:-0800
TZNAME:AKDT
DTSTART:20250309T110000
END:DAYLIGHT
BEGIN:STANDARD
TZOFFSETFROM:-0800
TZOFFSETTO:-0900
TZNAME:AKST
DTSTART:20251102T100000
END:STANDARD
BEGIN:DAYLIGHT
TZOFFSETFROM:-0900
TZOFFSETTO:-0800
TZNAME:AKDT
DTSTART:20260308T110000
END:DAYLIGHT
BEGIN:STANDARD
TZOFFSETFROM:-0800
TZOFFSETTO:-0900
TZNAME:AKST
DTSTART:20261101T100000
END:STANDARD
BEGIN:DAYLIGHT
TZOFFSETFROM:-0900
TZOFFSETTO:-0800
TZNAME:AKDT
DTSTART:20270314T110000
END:DAYLIGHT
BEGIN:STANDARD
TZOFFSETFROM:-0800
TZOFFSETTO:-0900
TZNAME:AKST
DTSTART:20271107T100000
END:STANDARD
END:VTIMEZONE
BEGIN:VEVENT
DTSTART;TZID=America/Anchorage:20260415T080000
DTEND;TZID=America/Anchorage:20260415T120000
DTSTAMP:20260419T050205
CREATED:20260321T011031Z
LAST-MODIFIED:20260321T011610Z
UID:2245-1776240000-1776254400@md49lionevents.org
SUMMARY:Alaska Health Fair Spring Schedule
DESCRIPTION:The Lions have been asked to do Visionscreening with our Plusoptix Screener\, acuity testing with their Optec 5000 and hearing testing with our Maico EasyTone at their Community Health Fairs.
URL:https://md49lionevents.org/event/alaska-health-fair-spring-schedule-2/
LOCATION:Hope Community Center\, 570 W 53rd Ave\, Anchorage\, AK\, United States
END:VEVENT
BEGIN:VEVENT
DTSTART;TZID=America/Anchorage:20260415T180000
DTEND;TZID=America/Anchorage:20260418T220000
DTSTAMP:20260419T050205
CREATED:20251116T212729Z
LAST-MODIFIED:20251116T213622Z
UID:1798-1776276000-1776549600@md49lionevents.org
SUMMARY:MD 49 Convention 2026
DESCRIPTION:
URL:https://md49lionevents.org/event/md-49-convention-2/
LOCATION:Lakefront Hotel\, 4800 Spenard Rd\, Anchorage\, AK\, 99517\, United States
END:VEVENT
END:VCALENDAR