BEGIN:VCALENDAR
VERSION:2.0
PRODID:-//Alaska Lions Events - ECPv6.15.20//NONSGML v1.0//EN
CALSCALE:GREGORIAN
METHOD:PUBLISH
X-WR-CALNAME:Alaska Lions Events
X-ORIGINAL-URL:https://md49lionevents.org
X-WR-CALDESC:Events for Alaska Lions Events
REFRESH-INTERVAL;VALUE=DURATION:PT1H
X-Robots-Tag:noindex
X-PUBLISHED-TTL:PT1H
BEGIN:VTIMEZONE
TZID:America/Anchorage
BEGIN:DAYLIGHT
TZOFFSETFROM:-0900
TZOFFSETTO:-0800
TZNAME:AKDT
DTSTART:20250309T110000
END:DAYLIGHT
BEGIN:STANDARD
TZOFFSETFROM:-0800
TZOFFSETTO:-0900
TZNAME:AKST
DTSTART:20251102T100000
END:STANDARD
BEGIN:DAYLIGHT
TZOFFSETFROM:-0900
TZOFFSETTO:-0800
TZNAME:AKDT
DTSTART:20260308T110000
END:DAYLIGHT
BEGIN:STANDARD
TZOFFSETFROM:-0800
TZOFFSETTO:-0900
TZNAME:AKST
DTSTART:20261101T100000
END:STANDARD
BEGIN:DAYLIGHT
TZOFFSETFROM:-0900
TZOFFSETTO:-0800
TZNAME:AKDT
DTSTART:20270314T110000
END:DAYLIGHT
BEGIN:STANDARD
TZOFFSETFROM:-0800
TZOFFSETTO:-0900
TZNAME:AKST
DTSTART:20271107T100000
END:STANDARD
END:VTIMEZONE
BEGIN:VEVENT
DTSTART;VALUE=DATE:20260422
DTEND;VALUE=DATE:20260423
DTSTAMP:20260419T045815
CREATED:20260330T204616Z
LAST-MODIFIED:20260330T205318Z
UID:2278-1776816000-1776902399@md49lionevents.org
SUMMARY:Alaska Literacy Program Health Day
DESCRIPTION:The Lions of District 49A have been asked to provide free Visionscreening and hearing testing at the ALP Health Day.\n\nHealth day is focused on providing short health education lessons to the ALP students through their amazing Peer Leader Navigators.\nA community resource room will be set up. This is where community partners have an opportunity to share additional information and services.\nTime blocks:\n9am-12:30pm\n5pm-7:00pm
URL:https://md49lionevents.org/event/alaska-literacy-program-health-day-2/
LOCATION:Alaska Literacy Program\, 1345 Rudakof Circle\, Ste 104\, Anchorage\, AK\, United States
END:VEVENT
END:VCALENDAR