BEGIN:VCALENDAR
VERSION:2.0
PRODID:-//Alaska Lions Events - ECPv6.15.20//NONSGML v1.0//EN
CALSCALE:GREGORIAN
METHOD:PUBLISH
X-ORIGINAL-URL:https://md49lionevents.org
X-WR-CALDESC:Events for Alaska Lions Events
REFRESH-INTERVAL;VALUE=DURATION:PT1H
X-Robots-Tag:noindex
X-PUBLISHED-TTL:PT1H
BEGIN:VTIMEZONE
TZID:America/Anchorage
BEGIN:DAYLIGHT
TZOFFSETFROM:-0900
TZOFFSETTO:-0800
TZNAME:AKDT
DTSTART:20250309T110000
END:DAYLIGHT
BEGIN:STANDARD
TZOFFSETFROM:-0800
TZOFFSETTO:-0900
TZNAME:AKST
DTSTART:20251102T100000
END:STANDARD
BEGIN:DAYLIGHT
TZOFFSETFROM:-0900
TZOFFSETTO:-0800
TZNAME:AKDT
DTSTART:20260308T110000
END:DAYLIGHT
BEGIN:STANDARD
TZOFFSETFROM:-0800
TZOFFSETTO:-0900
TZNAME:AKST
DTSTART:20261101T100000
END:STANDARD
BEGIN:DAYLIGHT
TZOFFSETFROM:-0900
TZOFFSETTO:-0800
TZNAME:AKDT
DTSTART:20270314T110000
END:DAYLIGHT
BEGIN:STANDARD
TZOFFSETFROM:-0800
TZOFFSETTO:-0900
TZNAME:AKST
DTSTART:20271107T100000
END:STANDARD
END:VTIMEZONE
BEGIN:VEVENT
DTSTART;TZID=America/Anchorage:20260424T080000
DTEND;TZID=America/Anchorage:20260426T170000
DTSTAMP:20260419T050111
CREATED:20260217T210929Z
LAST-MODIFIED:20260217T210929Z
UID:2014-1777017600-1777222800@md49lionevents.org
SUMMARY:Alaska School Nurses Spring Conference
DESCRIPTION:The Lions of District 49A will be presenting their Visionscreening and Hearing Programs to the group.
URL:https://md49lionevents.org/event/alaska-school-nurses-spring-conference/
LOCATION:Hotel Captain Cook\, 939 W 5th Ave\, Anchorage\, AK\, United States
END:VEVENT
BEGIN:VEVENT
DTSTART;TZID=America/Anchorage:20260425T080000
DTEND;TZID=America/Anchorage:20260425T170000
DTSTAMP:20260419T050111
CREATED:20260221T063553Z
LAST-MODIFIED:20260221T063826Z
UID:2127-1777104000-1777136400@md49lionevents.org
SUMMARY:Mt View Spring Recycling  Drive
DESCRIPTION:
URL:https://md49lionevents.org/event/mountain-lions-recycling-drive/
LOCATION:Mt View Lions Club House\, 501 N Pine St\, Anchorage\, AK\, 99508\, United States
END:VEVENT
BEGIN:VEVENT
DTSTART;TZID=America/Anchorage:20260425T114500
DTEND;TZID=America/Anchorage:20260425T160000
DTSTAMP:20260419T050111
CREATED:20260217T211803Z
LAST-MODIFIED:20260221T182422Z
UID:2019-1777117500-1777132800@md49lionevents.org
SUMMARY:BBALC & Anchorage Lions Club’s Annual Spring Bowling Party
DESCRIPTION:  \nFollow link below:\nhttps://bentonbaylions.org/bowling
URL:https://md49lionevents.org/event/bbalc-anchorage-lions-clubs-annual-spring-bowling-party/
LOCATION:Jewel Lake Bowl\, 8801 Jewel Lake Rd\,\, Anchorage\, AK\, 99502\, United States
END:VEVENT
END:VCALENDAR