BEGIN:VCALENDAR
VERSION:2.0
PRODID:-//Alaska Lions Events - ECPv6.15.20//NONSGML v1.0//EN
CALSCALE:GREGORIAN
METHOD:PUBLISH
X-ORIGINAL-URL:https://md49lionevents.org
X-WR-CALDESC:Events for Alaska Lions Events
REFRESH-INTERVAL;VALUE=DURATION:PT1H
X-Robots-Tag:noindex
X-PUBLISHED-TTL:PT1H
BEGIN:VTIMEZONE
TZID:America/Anchorage
BEGIN:DAYLIGHT
TZOFFSETFROM:-0900
TZOFFSETTO:-0800
TZNAME:AKDT
DTSTART:20250309T110000
END:DAYLIGHT
BEGIN:STANDARD
TZOFFSETFROM:-0800
TZOFFSETTO:-0900
TZNAME:AKST
DTSTART:20251102T100000
END:STANDARD
BEGIN:DAYLIGHT
TZOFFSETFROM:-0900
TZOFFSETTO:-0800
TZNAME:AKDT
DTSTART:20260308T110000
END:DAYLIGHT
BEGIN:STANDARD
TZOFFSETFROM:-0800
TZOFFSETTO:-0900
TZNAME:AKST
DTSTART:20261101T100000
END:STANDARD
BEGIN:DAYLIGHT
TZOFFSETFROM:-0900
TZOFFSETTO:-0800
TZNAME:AKDT
DTSTART:20270314T110000
END:DAYLIGHT
BEGIN:STANDARD
TZOFFSETFROM:-0800
TZOFFSETTO:-0900
TZNAME:AKST
DTSTART:20271107T100000
END:STANDARD
END:VTIMEZONE
BEGIN:VEVENT
DTSTART;TZID=America/Anchorage:20260508T190000
DTEND;TZID=America/Anchorage:20260508T200000
DTSTAMP:20260419T062836
CREATED:20260409T002106Z
LAST-MODIFIED:20260409T002106Z
UID:2303-1778266800-1778270400@md49lionevents.org
SUMMARY:2026 Spring Beep Baseball is Back!
DESCRIPTION:It’s time for Baseball! Spring has arrived in Anchorage! Are you ready to volunteer to help with Beep Baseball?!?\nChallenge Alaska has arranged some practice times using an indoor facility called Fielder’s Choice. They’re located at 7900 Schoon St.\, just north of the Red Robin on Dimond Blvd. Please see the dates and times below:\n\n\nFriday April 17 from 8:15 – 9:15 pm\nFriday April 24 from 8:15 – 9:15 pm\nFriday May 1 from 7:00 – 8:00 pm\nFriday May 8 from 7:00 – 8:00 pm\nFriday May 22 from 7:00 – 8:00 pm\n\n\nThey will have a shuttle from the Alaska Center for the Blind and Visually Impaired to and from Fielder’s Choice. The shuttle will leave 30 minutes prior to practice times and return to the Center immediately after practice times.\n\n\nPlease check your email account for additional information. All Lions are welcome. If you are with another club\, please contact Lion Rebecca\, and she will forward you the email.
URL:https://md49lionevents.org/event/2026-spring-beep-baseball-is-back-3/
LOCATION:Fielders Choice\, 7900 Schoon St\, Anchorage\, AK\, United States
END:VEVENT
END:VCALENDAR