BEGIN:VCALENDAR
VERSION:2.0
PRODID:-//Alaska Lions Events - ECPv6.15.20//NONSGML v1.0//EN
CALSCALE:GREGORIAN
METHOD:PUBLISH
X-WR-CALNAME:Alaska Lions Events
X-ORIGINAL-URL:https://md49lionevents.org
X-WR-CALDESC:Events for Alaska Lions Events
REFRESH-INTERVAL;VALUE=DURATION:PT1H
X-Robots-Tag:noindex
X-PUBLISHED-TTL:PT1H
BEGIN:VTIMEZONE
TZID:America/Anchorage
BEGIN:DAYLIGHT
TZOFFSETFROM:-0900
TZOFFSETTO:-0800
TZNAME:AKDT
DTSTART:20250309T110000
END:DAYLIGHT
BEGIN:STANDARD
TZOFFSETFROM:-0800
TZOFFSETTO:-0900
TZNAME:AKST
DTSTART:20251102T100000
END:STANDARD
BEGIN:DAYLIGHT
TZOFFSETFROM:-0900
TZOFFSETTO:-0800
TZNAME:AKDT
DTSTART:20260308T110000
END:DAYLIGHT
BEGIN:STANDARD
TZOFFSETFROM:-0800
TZOFFSETTO:-0900
TZNAME:AKST
DTSTART:20261101T100000
END:STANDARD
BEGIN:DAYLIGHT
TZOFFSETFROM:-0900
TZOFFSETTO:-0800
TZNAME:AKDT
DTSTART:20270314T110000
END:DAYLIGHT
BEGIN:STANDARD
TZOFFSETFROM:-0800
TZOFFSETTO:-0900
TZNAME:AKST
DTSTART:20271107T100000
END:STANDARD
END:VTIMEZONE
BEGIN:VEVENT
DTSTART;TZID=America/Anchorage:20260530T110000
DTEND;TZID=America/Anchorage:20260530T180000
DTSTAMP:20260419T062401
CREATED:20260219T221013Z
LAST-MODIFIED:20260219T221013Z
UID:2062-1780138800-1780164000@md49lionevents.org
SUMMARY:AAPI HERITAGE FLAG DAY
DESCRIPTION:
URL:https://md49lionevents.org/event/aapi-heritage-flag-day/
LOCATION:Delaney Park Strip\, 9th & 10th and E & I St\, Anchorage\, AK\, United States
END:VEVENT
BEGIN:VEVENT
DTSTART;TZID=America/Anchorage:20260530T110000
DTEND;TZID=America/Anchorage:20260531T160000
DTSTAMP:20260419T062401
CREATED:20260219T223844Z
LAST-MODIFIED:20260219T223844Z
UID:2066-1780138800-1780243200@md49lionevents.org
SUMMARY:19th Annual Cruis’in with Santa
DESCRIPTION:  \n 
URL:https://md49lionevents.org/event/19th-annual-cruisin-with-santa/
LOCATION:North Pole Hotel\, 449 N Santa Claus Ln\, North Pole\, AK\, 99705\, United States
END:VEVENT
END:VCALENDAR