BEGIN:VCALENDAR
VERSION:2.0
PRODID:-//Alaska Lions Events - ECPv6.15.20//NONSGML v1.0//EN
CALSCALE:GREGORIAN
METHOD:PUBLISH
X-WR-CALNAME:Alaska Lions Events
X-ORIGINAL-URL:https://md49lionevents.org
X-WR-CALDESC:Events for Alaska Lions Events
REFRESH-INTERVAL;VALUE=DURATION:PT1H
X-Robots-Tag:noindex
X-PUBLISHED-TTL:PT1H
BEGIN:VTIMEZONE
TZID:America/Anchorage
BEGIN:DAYLIGHT
TZOFFSETFROM:-0900
TZOFFSETTO:-0800
TZNAME:AKDT
DTSTART:20250309T110000
END:DAYLIGHT
BEGIN:STANDARD
TZOFFSETFROM:-0800
TZOFFSETTO:-0900
TZNAME:AKST
DTSTART:20251102T100000
END:STANDARD
BEGIN:DAYLIGHT
TZOFFSETFROM:-0900
TZOFFSETTO:-0800
TZNAME:AKDT
DTSTART:20260308T110000
END:DAYLIGHT
BEGIN:STANDARD
TZOFFSETFROM:-0800
TZOFFSETTO:-0900
TZNAME:AKST
DTSTART:20261101T100000
END:STANDARD
BEGIN:DAYLIGHT
TZOFFSETFROM:-0900
TZOFFSETTO:-0800
TZNAME:AKDT
DTSTART:20270314T110000
END:DAYLIGHT
BEGIN:STANDARD
TZOFFSETFROM:-0800
TZOFFSETTO:-0900
TZNAME:AKST
DTSTART:20271107T100000
END:STANDARD
END:VTIMEZONE
BEGIN:VEVENT
DTSTART;TZID=America/Anchorage:20260704T080000
DTEND;TZID=America/Anchorage:20260704T170000
DTSTAMP:20260419T075844
CREATED:20260220T075718Z
LAST-MODIFIED:20260220T082039Z
UID:2108-1783152000-1783184400@md49lionevents.org
SUMMARY:Houston Lions Waterworks Festival
DESCRIPTION:Alaska’s largest squirt gun scuffle\, Houston Fire Department encourages youths (and the young at heart) to enjoy their Independence Day in a safe and engaging environment. Save the fireworks for the professionals\, and stay cool in the sun. There will be fire truck demonstrations\, water slides\, a snack and drinks bar for the kids.
URL:https://md49lionevents.org/event/houston-lions-waterworks-festival/
LOCATION:Houston Fire Department\, 57.4 Parks Hwy\, Houston\, AK\, United States
END:VEVENT
BEGIN:VEVENT
DTSTART;TZID=America/Anchorage:20260704T083000
DTEND;TZID=America/Anchorage:20260704T143000
DTSTAMP:20260419T075844
CREATED:20260220T073933Z
LAST-MODIFIED:20260220T073933Z
UID:2099-1783153800-1783175400@md49lionevents.org
SUMMARY:Downtown Anchorage Veterans Parade
DESCRIPTION:Come on downtown and cheer on our Lions with the Vision Trailer in the Anchorage Veterans 4th of July Parade.
URL:https://md49lionevents.org/event/downtown-anchorage-veterans-parade-2/
LOCATION:Downtown Anchorage\, Delaney Park Strip\, Anchorage\, AK\, United States
END:VEVENT
BEGIN:VEVENT
DTSTART;TZID=America/Anchorage:20260704T110000
DTEND;TZID=America/Anchorage:20260704T160000
DTSTAMP:20260419T075844
CREATED:20260220T074833Z
LAST-MODIFIED:20260220T075135Z
UID:2102-1783162800-1783180800@md49lionevents.org
SUMMARY:Willow Lions Parade and BBQ
DESCRIPTION:The Willow Area Community Organization (WACO) in Willow\, Alaska hosts a 4th of July parade and picnic.\nStaging for the parade is at the Baptist Church at 11AM. The parade starts at noon and is followed by a picnic at the Willow Community Center.\n \n 
URL:https://md49lionevents.org/event/willow-lions-parade-and-bbq-2/
LOCATION:Willow Community Center\, MP 69.5 Parks Highway\, Willow\, AK\, 99688\, United States
END:VEVENT
END:VCALENDAR