BEGIN:VCALENDAR
VERSION:2.0
PRODID:-//Alaska Lions Events - ECPv6.15.20//NONSGML v1.0//EN
CALSCALE:GREGORIAN
METHOD:PUBLISH
X-ORIGINAL-URL:https://md49lionevents.org
X-WR-CALDESC:Events for Alaska Lions Events
REFRESH-INTERVAL;VALUE=DURATION:PT1H
X-Robots-Tag:noindex
X-PUBLISHED-TTL:PT1H
BEGIN:VTIMEZONE
TZID:America/Anchorage
BEGIN:DAYLIGHT
TZOFFSETFROM:-0900
TZOFFSETTO:-0800
TZNAME:AKDT
DTSTART:20250309T110000
END:DAYLIGHT
BEGIN:STANDARD
TZOFFSETFROM:-0800
TZOFFSETTO:-0900
TZNAME:AKST
DTSTART:20251102T100000
END:STANDARD
BEGIN:DAYLIGHT
TZOFFSETFROM:-0900
TZOFFSETTO:-0800
TZNAME:AKDT
DTSTART:20260308T110000
END:DAYLIGHT
BEGIN:STANDARD
TZOFFSETFROM:-0800
TZOFFSETTO:-0900
TZNAME:AKST
DTSTART:20261101T100000
END:STANDARD
BEGIN:DAYLIGHT
TZOFFSETFROM:-0900
TZOFFSETTO:-0800
TZNAME:AKDT
DTSTART:20270314T110000
END:DAYLIGHT
BEGIN:STANDARD
TZOFFSETFROM:-0800
TZOFFSETTO:-0900
TZNAME:AKST
DTSTART:20271107T100000
END:STANDARD
END:VTIMEZONE
BEGIN:VEVENT
DTSTART;TZID=America/Anchorage:20260718T080000
DTEND;TZID=America/Anchorage:20260718T150000
DTSTAMP:20260419T093710
CREATED:20260220T090100Z
LAST-MODIFIED:20260303T004345Z
UID:2121-1784361600-1784386800@md49lionevents.org
SUMMARY:Annual Benton Bay Lions Golf Outing
DESCRIPTION:What-   Proceeds to Benefit Youth Scholarships\nWhen-  Saturday\, July 18\, 2026\nWhere- Moose Run Hill Course\nOur Commitment to Sports\nOur club is committed to supporting the future of sports as well as many of the other International Lions Clubs goals such as preventing blindness. Our club’s main goal still remains supporting local amateur sports programs\, primarily high school sports and UAA athletics where we remain active. This year we will be using the proceeds from this golf event to continue support our youth scholarship program. \nScholarships\nWith your support we will be able pay annual scholarships to up to eight students each year (two new students each year). We award the scholarships to student athletes\, who have already distinguished themselves in service to their community. \nHelp us Make it Possible\nWe want to invite you to join us in helping make these things possible. The Benton Bay Athletic Lions Foundation\, Inc. is a 501c3 nonprofit organization\, ID 94-3057694\, so your donation may be tax deductible. You can sponsor the event in the following ways. \n\n$150 – Individual Registration.\n$550 – Team Registration.\n$200 – Hole Sponsorship: A sign will be placed on the tee area with your name as a sponsor for that hole. If you select this option please send us the name you would like to see on the sign.\n$700 – Team Registration and Hole Sponsorship.\nDonations in Kind: We would appreciate donations of food\, prizes\, items for a goodie bag\, or other items we can use for the event.\n\nDownload the app and registration and pay online:\nhttps://www.bentonbaylions.org/golf/GolfApp.pdf\nhttps://www.bentonbaylions.org/golf/register.php\nhttps://www.bentonbaylions.org/golf/payment.php
URL:https://md49lionevents.org/event/annual-benton-bay-lions-golf-outing-2/
LOCATION:Moose Run Golf Course\, 27000 Arctic Valley Rd\, Joint Base Elmendorf-Richardson\, AK\, 99505\, United States
END:VEVENT
END:VCALENDAR