BEGIN:VCALENDAR
VERSION:2.0
PRODID:-//Alaska Lions Events - ECPv6.15.20//NONSGML v1.0//EN
CALSCALE:GREGORIAN
METHOD:PUBLISH
X-ORIGINAL-URL:https://md49lionevents.org
X-WR-CALDESC:Events for Alaska Lions Events
REFRESH-INTERVAL;VALUE=DURATION:PT1H
X-Robots-Tag:noindex
X-PUBLISHED-TTL:PT1H
BEGIN:VTIMEZONE
TZID:America/Anchorage
BEGIN:DAYLIGHT
TZOFFSETFROM:-0900
TZOFFSETTO:-0800
TZNAME:AKDT
DTSTART:20250309T110000
END:DAYLIGHT
BEGIN:STANDARD
TZOFFSETFROM:-0800
TZOFFSETTO:-0900
TZNAME:AKST
DTSTART:20251102T100000
END:STANDARD
BEGIN:DAYLIGHT
TZOFFSETFROM:-0900
TZOFFSETTO:-0800
TZNAME:AKDT
DTSTART:20260308T110000
END:DAYLIGHT
BEGIN:STANDARD
TZOFFSETFROM:-0800
TZOFFSETTO:-0900
TZNAME:AKST
DTSTART:20261101T100000
END:STANDARD
BEGIN:DAYLIGHT
TZOFFSETFROM:-0900
TZOFFSETTO:-0800
TZNAME:AKDT
DTSTART:20270314T110000
END:DAYLIGHT
BEGIN:STANDARD
TZOFFSETFROM:-0800
TZOFFSETTO:-0900
TZNAME:AKST
DTSTART:20271107T100000
END:STANDARD
END:VTIMEZONE
BEGIN:VEVENT
DTSTART;TZID=America/Anchorage:20260808T123000
DTEND;TZID=America/Anchorage:20260808T163000
DTSTAMP:20260419T111403
CREATED:20260223T003941Z
LAST-MODIFIED:20260403T020107Z
UID:2140-1786192200-1786206600@md49lionevents.org
SUMMARY:10th Annual Fairview Back to School Health Fair
DESCRIPTION:This back-to-school event hosted by the Anchorage Health Department and Parks & Rec’s Fairview Recreation Center is for Fairview & surrounding neighborhood kids with school supply giveaways. They invited community & social service organizations to staff booths or donate supplies or useful items. The Lions will be there in the vision trailer doing free Visionscreening for the attendees.\nEach kid attending the event will be given a passport. They will need to visit and get a stamp from each of the booths\, The student will receive a backpack and school supplies when they turn in their filled passport. The organizers are partnering with Sophia Metters from the GAP program this year so they are expecting to have 1500+ attendees.
URL:https://md49lionevents.org/event/fairview-back-to-school-health-fair-2/
LOCATION:Fairview Rec Center\, 1121 E 10th Ave\, Anchorage\, AK\, United States
END:VEVENT
END:VCALENDAR