BEGIN:VCALENDAR
VERSION:2.0
PRODID:-//Alaska Lions Events - ECPv6.15.20//NONSGML v1.0//EN
CALSCALE:GREGORIAN
METHOD:PUBLISH
X-ORIGINAL-URL:https://md49lionevents.org
X-WR-CALDESC:Events for Alaska Lions Events
REFRESH-INTERVAL;VALUE=DURATION:PT1H
X-Robots-Tag:noindex
X-PUBLISHED-TTL:PT1H
BEGIN:VTIMEZONE
TZID:America/Anchorage
BEGIN:DAYLIGHT
TZOFFSETFROM:-0900
TZOFFSETTO:-0800
TZNAME:AKDT
DTSTART:20250309T110000
END:DAYLIGHT
BEGIN:STANDARD
TZOFFSETFROM:-0800
TZOFFSETTO:-0900
TZNAME:AKST
DTSTART:20251102T100000
END:STANDARD
BEGIN:DAYLIGHT
TZOFFSETFROM:-0900
TZOFFSETTO:-0800
TZNAME:AKDT
DTSTART:20260308T110000
END:DAYLIGHT
BEGIN:STANDARD
TZOFFSETFROM:-0800
TZOFFSETTO:-0900
TZNAME:AKST
DTSTART:20261101T100000
END:STANDARD
BEGIN:DAYLIGHT
TZOFFSETFROM:-0900
TZOFFSETTO:-0800
TZNAME:AKDT
DTSTART:20270314T110000
END:DAYLIGHT
BEGIN:STANDARD
TZOFFSETFROM:-0800
TZOFFSETTO:-0900
TZNAME:AKST
DTSTART:20271107T100000
END:STANDARD
END:VTIMEZONE
BEGIN:VEVENT
DTSTART;TZID=America/Anchorage:20260815T180000
DTEND;TZID=America/Anchorage:20260815T210000
DTSTAMP:20260419T111454
CREATED:20260223T004323Z
LAST-MODIFIED:20260223T004409Z
UID:2144-1786816800-1786827600@md49lionevents.org
SUMMARY:Houston Founders Day Event
DESCRIPTION:The tiny town of Houston triples its population (all the way up to 6\,000!) during this one-day family-friendly blowout on the third Saturday in August. And the best part is that everything’s free! Kids’ games and bouncy rooms\, dunk tanks\, fishing ponds\, slides\, and a BBQ…it’s all covered by the folks of Houston. \nThe block party-style festival\, which has been going on for at least 30 years\, was started for kids\, and they’ve kept the focus on the youngsters. So bring the family for pie-eating contests\, free hot dogs and burgers\, and games. \nThere’s also a poker tournament and garage sale (for the adults) and what the folks of Houston claim is the best fireworks display in the state (a member of their fire department owns a pyrotechnic company and puts on the show). The Air Force Band also plays during the evening\, and there are free tours of a life-flight helicopter.
URL:https://md49lionevents.org/event/houston-founders-day-event/
LOCATION:Houston Fire Department\, 57.4 Parks Hwy\, Houston\, AK\, United States
END:VEVENT
END:VCALENDAR