BEGIN:VCALENDAR
VERSION:2.0
PRODID:-//Alaska Lions Events - ECPv6.15.20//NONSGML v1.0//EN
CALSCALE:GREGORIAN
METHOD:PUBLISH
X-WR-CALNAME:Alaska Lions Events
X-ORIGINAL-URL:https://md49lionevents.org
X-WR-CALDESC:Events for Alaska Lions Events
REFRESH-INTERVAL;VALUE=DURATION:PT1H
X-Robots-Tag:noindex
X-PUBLISHED-TTL:PT1H
BEGIN:VTIMEZONE
TZID:America/Anchorage
BEGIN:DAYLIGHT
TZOFFSETFROM:-0900
TZOFFSETTO:-0800
TZNAME:AKDT
DTSTART:20240310T110000
END:DAYLIGHT
BEGIN:STANDARD
TZOFFSETFROM:-0800
TZOFFSETTO:-0900
TZNAME:AKST
DTSTART:20241103T100000
END:STANDARD
BEGIN:DAYLIGHT
TZOFFSETFROM:-0900
TZOFFSETTO:-0800
TZNAME:AKDT
DTSTART:20250309T110000
END:DAYLIGHT
BEGIN:STANDARD
TZOFFSETFROM:-0800
TZOFFSETTO:-0900
TZNAME:AKST
DTSTART:20251102T100000
END:STANDARD
BEGIN:DAYLIGHT
TZOFFSETFROM:-0900
TZOFFSETTO:-0800
TZNAME:AKDT
DTSTART:20260308T110000
END:DAYLIGHT
BEGIN:STANDARD
TZOFFSETFROM:-0800
TZOFFSETTO:-0900
TZNAME:AKST
DTSTART:20261101T100000
END:STANDARD
END:VTIMEZONE
BEGIN:VEVENT
DTSTART;TZID=America/Anchorage:20250329T100000
DTEND;TZID=America/Anchorage:20250330T180000
DTSTAMP:20260420T003047
CREATED:20250302T205212Z
LAST-MODIFIED:20250409T023648Z
UID:398-1743242400-1743357600@md49lionevents.org
SUMMARY:Palmer Lions 57th Annual Gun Show
DESCRIPTION:  \n \n  \n  \nBe sure to “SCOPE” out the 57th Annual Lions’ Gun Show Saturday and Sunday\, March 29 and 30\, 2025 at the Alaska State Fairgrounds open at 1PM\n  \n  \n  \n 
URL:https://md49lionevents.org/event/palmer-lions-57th-annual-gun-show/
LOCATION:Raven Hall at Alaska State Fairgrounds\, 2075 Glen Hwy\, Palmer\, AK\, 99645\, United States
END:VEVENT
BEGIN:VEVENT
DTSTART;VALUE=DATE:20250323
DTEND;VALUE=DATE:20250330
DTSTAMP:20260420T003047
CREATED:20250302T012631Z
LAST-MODIFIED:20250409T024619Z
UID:331-1742688000-1743292799@md49lionevents.org
SUMMARY:76th Annual Invitational Gold Medal Basketball Tournament
DESCRIPTION:76th Annual Invitational Gold Medal Basketball Tournament
URL:https://md49lionevents.org/event/76th-annual-invitational-gold-medal-basketball-tournament/
LOCATION:Juneau-Douglas High School\, 1639 Glacier Ave\, Juneau\, AK\, 99801\, United States
END:VEVENT
BEGIN:VEVENT
DTSTART;TZID=America/Anchorage:20250322T183000
DTEND;TZID=America/Anchorage:20250323T000000
DTSTAMP:20260420T003047
CREATED:20250318T204425Z
LAST-MODIFIED:20250409T024649Z
UID:889-1742668200-1742688000@md49lionevents.org
SUMMARY:Texas Hold’em - Spring Bash
DESCRIPTION:
URL:https://md49lionevents.org/event/texas-holdem-spring-bash/
LOCATION:Aurora Borealis Lions Eyeglass Recycling Center\, 2925 Newby Rd\, North Pole\, AK\, United States
END:VEVENT
BEGIN:VEVENT
DTSTART;TZID=America/Anchorage:20250315T190000
DTEND;TZID=America/Anchorage:20250315T220000
DTSTAMP:20260420T003047
CREATED:20250307T191604Z
LAST-MODIFIED:20250409T024920Z
UID:790-1742065200-1742076000@md49lionevents.org
SUMMARY:Mystery & Mayhem\, a Wild West Who-Dunnit
DESCRIPTION:                     A Wild West Who-Dunnit\nSaddle up and dust off your boots for a night of toe-tapping music\, country grub\, raffles and hidden secrets around every corner.\n\n \n               Benefit for Ray Ford in his fight against cancer.
URL:https://md49lionevents.org/event/mystery-mayhem-a-wild-west-who-dunnit/
LOCATION:American Legion Post 20\, 902 Cook Dr\, Kenai\, AK\, United States
END:VEVENT
BEGIN:VEVENT
DTSTART;TZID=America/Anchorage:20250315T110000
DTEND;TZID=America/Anchorage:20250315T170000
DTSTAMP:20260420T003047
CREATED:20250310T224706Z
LAST-MODIFIED:20250409T025119Z
UID:820-1742036400-1742058000@md49lionevents.org
SUMMARY:Bering Sea Lions Club Presents 40th Annual Eliot Staples Golf Classic
DESCRIPTION:Bering Sea Lions Club Presents….\n40th Annual Eliot Staples 2025 Golf Classic\nGolf\, Nome Style!\nSign-Up NOW at the Nome’s Visitor CenterConfirm your T-Time. The First Tee time is at 11:00 A.M.\, and every 15 minutes after!Check-in 5 minutes before your T-time at the back room of Breakers Bar\n$50 per person; 4 people per team ($200). The entry fee comes with a “Goodie bag” full of quality souvenirs: A Hat\, T-shirt\, Golf ball\, Button\, and a shot of warmth!\nPLUS\, you earn a Certificate to PROVE to your friends that you played Golf on the Bering Sea in Nome\, Alaska!\nAwards will be presented at 6:00 P.M. at Breakers Bar 1st \, 2nd\, & 3rd place Team Trophies are from The Great Alaskan Bowl Company!\nQuestions/Sign up – text Pamela Cushman(907) 434-1357\n\n*Golf Classic happens in any weather so remember to dress appropriately!
URL:https://md49lionevents.org/event/bering-sea-lions-club-presents-40th-annual-eliot-staples-golf-classic/
LOCATION:Breakers Bar\, 243 Front St\, Nome\, AK\, 99762\, United States
END:VEVENT
BEGIN:VEVENT
DTSTART;TZID=America/Anchorage:20250202T133000
DTEND;TZID=America/Anchorage:20250202T150000
DTSTAMP:20260420T003047
CREATED:20250302T204631Z
LAST-MODIFIED:20250409T042938Z
UID:395-1738503000-1738508400@md49lionevents.org
SUMMARY:MD 49 Council of Governors Meeting
DESCRIPTION:Quarterly meeting of Council Chairman and the sitting District Governors from 49A\, DG “Russ Ingram\, and 49B\, DG Janis Marcinkowski.\nAll MD chairmen are to attend. Meeting is open to any Lion.\n                ID Ski Marcinkowski and CC Dodie Rixie\n \n                    DG Russ                                           DG Janis
URL:https://md49lionevents.org/event/md-49-council-of-governors-meeting/
LOCATION:Zoom
END:VEVENT
BEGIN:VEVENT
DTSTART;TZID=America/Anchorage:20250202T120000
DTEND;TZID=America/Anchorage:20250202T170000
DTSTAMP:20260420T003047
CREATED:20250302T191229Z
LAST-MODIFIED:20250409T043427Z
UID:374-1738497600-1738515600@md49lionevents.org
SUMMARY:Willow Lions Snowshoe Scavenger Hunt at Willow Winter Carnival
DESCRIPTION:
URL:https://md49lionevents.org/event/willow-lions-snowshoe-scavenger-hunt-at-willow-winter-carnival/
LOCATION:Willow Community Center\, MP 69.5 Parks Highway\, Willow\, AK\, 99688\, United States
END:VEVENT
BEGIN:VEVENT
DTSTART;TZID=America/Anchorage:20250128T100000
DTEND;TZID=America/Anchorage:20250128T140000
DTSTAMP:20260420T003047
CREATED:20250302T204138Z
LAST-MODIFIED:20250409T044241Z
UID:218-1738058400-1738072800@md49lionevents.org
SUMMARY:Project Homeless Connect-Mat-Su
DESCRIPTION:  \n \nPalmer Lions Club set up to do free Visionscreening and give out glasses.
URL:https://md49lionevents.org/event/project-homeless-connect-mat-su/
LOCATION:Menard Sports Complex\, 1001 S Mack Dr\, Wasilla\, AK\, United States
END:VEVENT
BEGIN:VEVENT
DTSTART;VALUE=DATE:20250113
DTEND;VALUE=DATE:20250114
DTSTAMP:20260420T003047
CREATED:20250319T041853Z
LAST-MODIFIED:20250409T044322Z
UID:894-1736726400-1736812799@md49lionevents.org
SUMMARY:Lion Melvin Jones Birthday
DESCRIPTION:
URL:https://md49lionevents.org/event/lion-melvin-jones-birthday/
LOCATION:AK
END:VEVENT
BEGIN:VEVENT
DTSTART;TZID=America/Anchorage:20250111T100000
DTEND;TZID=America/Anchorage:20250111T150000
DTSTAMP:20260420T003047
CREATED:20250301T225535Z
LAST-MODIFIED:20250409T044942Z
UID:198-1736589600-1736607600@md49lionevents.org
SUMMARY:Diversity Fair/PCA Fair
DESCRIPTION:To provide a space for the community to access information\, resources\, and gain a better understanding of services in Anchorage as it relates to their health and overall livelihood.\nThe Lions offer free Visionscreening and promotion information for the Lions other global causes.
URL:https://md49lionevents.org/event/diversity-fair-pca-fair/
LOCATION:Loussac Library\, Anchorage\, AK\, United States
END:VEVENT
END:VCALENDAR