BEGIN:VCALENDAR
VERSION:2.0
PRODID:-//Alaska Lions Events - ECPv6.15.20//NONSGML v1.0//EN
CALSCALE:GREGORIAN
METHOD:PUBLISH
X-WR-CALNAME:Alaska Lions Events
X-ORIGINAL-URL:https://md49lionevents.org
X-WR-CALDESC:Events for Alaska Lions Events
REFRESH-INTERVAL;VALUE=DURATION:PT1H
X-Robots-Tag:noindex
X-PUBLISHED-TTL:PT1H
BEGIN:VTIMEZONE
TZID:America/Anchorage
BEGIN:DAYLIGHT
TZOFFSETFROM:-0900
TZOFFSETTO:-0800
TZNAME:AKDT
DTSTART:20240310T110000
END:DAYLIGHT
BEGIN:STANDARD
TZOFFSETFROM:-0800
TZOFFSETTO:-0900
TZNAME:AKST
DTSTART:20241103T100000
END:STANDARD
BEGIN:DAYLIGHT
TZOFFSETFROM:-0900
TZOFFSETTO:-0800
TZNAME:AKDT
DTSTART:20250309T110000
END:DAYLIGHT
BEGIN:STANDARD
TZOFFSETFROM:-0800
TZOFFSETTO:-0900
TZNAME:AKST
DTSTART:20251102T100000
END:STANDARD
BEGIN:DAYLIGHT
TZOFFSETFROM:-0900
TZOFFSETTO:-0800
TZNAME:AKDT
DTSTART:20260308T110000
END:DAYLIGHT
BEGIN:STANDARD
TZOFFSETFROM:-0800
TZOFFSETTO:-0900
TZNAME:AKST
DTSTART:20261101T100000
END:STANDARD
END:VTIMEZONE
BEGIN:VEVENT
DTSTART;TZID=America/Anchorage:20251220T190000
DTEND;TZID=America/Anchorage:20251220T210000
DTSTAMP:20260419T144752
CREATED:20251122T182445Z
LAST-MODIFIED:20251219T195403Z
UID:1845-1766257200-1766264400@md49lionevents.org
SUMMARY:Big Lake Lions Christmas Parade
DESCRIPTION:Join us for our Annual Christmas Parade of Lights!\nThe parade will start at 7pm.\nAll registered vehicles will line up at the Big Lake Elementary Bus loop\, and drive along Big Lake Road through the Roundabout.\nLink to Register in the Parade:\n            https://forms.gle/AkzviZPdzFJFbmPi6
URL:https://md49lionevents.org/event/big-lake-lions-christmas-parade/
LOCATION:Big Lake Lions Rec\, 3261 S Big Lake Rd\, Wasilla\, AK\, 99623-9663\, United States
END:VEVENT
BEGIN:VEVENT
DTSTART;TZID=America/Anchorage:20251219T160000
DTEND;TZID=America/Anchorage:20251219T223000
DTSTAMP:20260419T144752
CREATED:20250309T060511Z
LAST-MODIFIED:20250408T170053Z
UID:812-1766160000-1766183400@md49lionevents.org
SUMMARY:Light Flights over Juneau
DESCRIPTION:Light Flights:  Some time just before Christmas\, you’ll find Lion members and volunteers huddling around outside in the cold winter weather\, trying to keep warm.  It doesn’t matter if the temps are in the low teens and the Taku Winds are blowing sideways\, this annual fundraiser always brings a smile to the participants.  With the cooperation of Coastal Helicopters who donate their time\, copters\, and fuel\, we take passengers on a helicopter ride over the Mendenhall Valley to view Christmas lights.  We average about 300 passengers a year\, during a four-hour period.  The proceeds from this event are shared with Coastal Helicopters\, whose chosen charity is the Children’s Tumor Foundation and our share of the proceeds goes into other sight projects.
URL:https://md49lionevents.org/event/light-flights-over-juneau/
LOCATION:Juneau International Airport\, 1873 Shell Simmons Dr\, Juneau\, AK\, 99801\, United States
END:VEVENT
BEGIN:VEVENT
DTSTART;TZID=America/Anchorage:20251213T080000
DTEND;TZID=America/Anchorage:20251213T110000
DTSTAMP:20260419T144752
CREATED:20251129T035034Z
LAST-MODIFIED:20251201T222133Z
UID:1856-1765612800-1765623600@md49lionevents.org
SUMMARY:Colony Christmas Breakfast Buffet
DESCRIPTION:  \n \nStart your Colony Christmas Day with an extra special breakfast!!!
URL:https://md49lionevents.org/event/colony-christmas-breakfast-buffet/
LOCATION:Palmer Moose Lodge\, 1136 S Cobb St\, Palmer\, AK\, United States
END:VEVENT
BEGIN:VEVENT
DTSTART;VALUE=DATE:20251213
DTEND;VALUE=DATE:20251214
DTSTAMP:20260419T144752
CREATED:20251212T024205Z
LAST-MODIFIED:20251212T024323Z
UID:1900-1765584000-1765670399@md49lionevents.org
SUMMARY:National Wreaths Across America Day
DESCRIPTION:The Sleeping Lady Mountain Lions Club invites community members to participate in honoring local heroes by sponsoring wreaths for veterans’ graves.\n\n\nThe event is scheduled for December 13\, 2025\, coinciding with National Wreaths Across America\n\nThe Sleeping Lady Mountain Lions Club invites community members to participate in honoring local heroes by sponsoring wreaths for veterans’ graves.\n\n\n\nDonations can be made online by scanning a QR code or visiting the specified website: www.wreathsacrossamerica.org/AK0034.\n\n.
URL:https://md49lionevents.org/event/national-wreaths-across-america-day/
LOCATION:Fort Richardson National Cemetary\, 58-512 Davis Hwy\, Joint Base Elmendorf-Richardson\, AK\, 99505\, United States
END:VEVENT
BEGIN:VEVENT
DTSTART;TZID=America/Anchorage:20251206T100000
DTEND;TZID=America/Anchorage:20251206T120000
DTSTAMP:20260419T144752
CREATED:20251116T204017Z
LAST-MODIFIED:20251202T175330Z
UID:1779-1765015200-1765022400@md49lionevents.org
SUMMARY:Breakfast with Santa
DESCRIPTION:  \nBring your  family and join Santa for Breakfast! We will be hosting a free breakfast December 6th from 10am – 12noon. Any monetary donation is appreciated but not required\, all funds raised will go towards our fundraiser for Providence Pediatric Cancer Center.
URL:https://md49lionevents.org/event/breakfast-with-santa/
LOCATION:Eagle River Lions Park\, 18344 Eagle River Rd\, Eagle River\, AK\, 99577\, United States
END:VEVENT
BEGIN:VEVENT
DTSTART;TZID=America/Anchorage:20251205T170000
DTEND;TZID=America/Anchorage:20251206T210000
DTSTAMP:20260419T144752
CREATED:20251201T230339Z
LAST-MODIFIED:20251204T192811Z
UID:1872-1764954000-1765054800@md49lionevents.org
SUMMARY:Christmas Bazaar on the Slope
DESCRIPTION:
URL:https://md49lionevents.org/event/christmas-bazaar-on-the-slope/
LOCATION:Ipalook Elementary School\, 2079 Ahkovak St\, Utqiagvik\, AK\, 99723\, United States
END:VEVENT
BEGIN:VEVENT
DTSTART;TZID=America/Anchorage:20251203T080000
DTEND;TZID=America/Anchorage:20251203T170000
DTSTAMP:20260419T144752
CREATED:20250303T202522Z
LAST-MODIFIED:20250408T173037Z
UID:585-1764748800-1764781200@md49lionevents.org
SUMMARY:Willow Lions Giving Tree and Toy Donation
DESCRIPTION:Check out what our Lions Giving Tree project. Last year ww had a wonderful time wrapping gifts for 114 of our community children in need! \nGiving tree tags:                                                Toy donations: \n1 take a take for a boy or girl and age.          1 Teenagers-  tools\, bball\, vball\, games\, sleds\, candles \n2 they have ideas of what they want.            2  preteens- craft kits\, games\, fishing supplies\, frisbee \n3 return unwrapped gift to Library.                3  we need  gifts for older age kids but a toy will do
URL:https://md49lionevents.org/event/willow-lions-giving-tree-and-toy-donation/
LOCATION:Willow Community Center\, MP 69.5 Parks Highway\, Willow\, AK\, 99688\, United States
END:VEVENT
BEGIN:VEVENT
DTSTART;TZID=America/Anchorage:20251130T110000
DTEND;TZID=America/Anchorage:20251130T180000
DTSTAMP:20260419T144752
CREATED:20250926T204523Z
LAST-MODIFIED:20251002T215003Z
UID:1755-1764500400-1764525600@md49lionevents.org
SUMMARY:Big Lake Lions Annual Christmas Bazaar
DESCRIPTION:
URL:https://md49lionevents.org/event/big-lake-lions-annual-christmas-bazaar-3/
LOCATION:East Lake Mall\, 3261 S Big Lake Rd\, Wasilla\, AK\, 99623\, United States
END:VEVENT
BEGIN:VEVENT
DTSTART;TZID=America/Anchorage:20251129T110000
DTEND;TZID=America/Anchorage:20251129T180000
DTSTAMP:20260419T144752
CREATED:20250926T204314Z
LAST-MODIFIED:20251002T214921Z
UID:1749-1764414000-1764439200@md49lionevents.org
SUMMARY:Big Lake Lions Annual Christmas Bazaar
DESCRIPTION:
URL:https://md49lionevents.org/event/big-lake-lions-annual-christmas-bazaar-2/
LOCATION:East Lake Mall\, 3261 S Big Lake Rd\, Wasilla\, AK\, 99623\, United States
END:VEVENT
BEGIN:VEVENT
DTSTART;TZID=America/Anchorage:20251128T170000
DTEND;TZID=America/Anchorage:20251128T170000
DTSTAMP:20260419T144752
CREATED:20251122T053955Z
LAST-MODIFIED:20251122T054507Z
UID:1831-1764349200-1764349200@md49lionevents.org
SUMMARY:Girdwood Annual Holiday Tree Lighting
DESCRIPTION:CAROLING AT 5PM. TREE LIGHTING AT 5:30PM\nJOIN IN THE FESTIVE FUN WITH HOT CHOCOLATE AND COOKIES. \n 
URL:https://md49lionevents.org/event/girdwood-annual-holiday-tree-lighting/
LOCATION:Hightower Road\, Girdwood\, AK\, United States
END:VEVENT
BEGIN:VEVENT
DTSTART;TZID=America/Anchorage:20251128T140000
DTEND;TZID=America/Anchorage:20251128T170000
DTSTAMP:20260419T144752
CREATED:20251124T172037Z
LAST-MODIFIED:20251124T172037Z
UID:1850-1764338400-1764349200@md49lionevents.org
SUMMARY:Kodiak Lions Black Friday Movie Food Drive
DESCRIPTION:
URL:https://md49lionevents.org/event/kodiak-lions-black-friday-movie-food-drive/
LOCATION:Orpheum Theatre\, 102 Center St\, Kodiak\, AK\, 99615\, United States
END:VEVENT
BEGIN:VEVENT
DTSTART;TZID=America/Anchorage:20251127T120000
DTEND;TZID=America/Anchorage:20251127T140000
DTSTAMP:20260419T144752
CREATED:20250303T200237Z
LAST-MODIFIED:20251109T182321Z
UID:581-1764244800-1764252000@md49lionevents.org
SUMMARY:Eagle River Annual Thanksgiving Dinner
DESCRIPTION:  \n \n  \n\nWe are looking forward to hosting our Annual Thanksgiving Dinner!! Doors will open Thursday November 27th @ Noon. Bring your whole family and come hungry!! \nThis is a free dinner and a chance to come enjoy great food and meet some of our neighbors! \nDonations are greatly appreciated but not required \n 
URL:https://md49lionevents.org/event/eagle-river-annual-thanksgiving-dinner/
LOCATION:Eagle River Lions Park\, 18344 Eagle River Rd\, Eagle River\, AK\, 99577\, United States
END:VEVENT
BEGIN:VEVENT
DTSTART;TZID=America/Anchorage:20251126T100000
DTEND;TZID=America/Anchorage:20251126T180000
DTSTAMP:20260419T144752
CREATED:20251116T231020Z
LAST-MODIFIED:20251116T231020Z
UID:1819-1764151200-1764180000@md49lionevents.org
SUMMARY:Goldstream Valley Lions Holiday Pie Fundraiser
DESCRIPTION:Thank you for supporting our club’s community service projects! All pies are $25.00 ($27.00 for gluten free) and will be ready for pick up on Wednesday\, 11/26/2025 from 10-6pm at the Ken Kunkel Community Center. Payment will be accepted at pick up. These pies are all made from scratch and a lot of love.   Money raised will be donated to the Western Alaska Disaster Fund\, HopeLink warming shelter for the unhoused and to The Door.  Cash or check please.
URL:https://md49lionevents.org/event/goldstream-valley-lions-holiday-pie-fundraiser/
LOCATION:Ken Kunkel Community Center\, 2645 Goldstream Rd\, Fairbanks\, AK\, 99609\, United States
END:VEVENT
BEGIN:VEVENT
DTSTART;VALUE=DATE:20251126
DTEND;VALUE=DATE:20251217
DTSTAMP:20260419T144752
CREATED:20251201T223629Z
LAST-MODIFIED:20251201T223629Z
UID:1866-1764115200-1765929599@md49lionevents.org
SUMMARY:Sleeping Lady Mt Lions “TREE OF GIVNG”
DESCRIPTION:Tree of Giving Merchant Locations\n(November 26- December 16)Jitter’sFirst National Bank AlaskaGreat Alaska Pizza CoCountry Financial Melissa IzattHarry J McDonald CenterJason’s Donuts
URL:https://md49lionevents.org/event/sleeping-lady-mt-lions-tree-of-givng/
LOCATION:Eagle River\, AK\, United States
END:VEVENT
BEGIN:VEVENT
DTSTART;TZID=America/Anchorage:20251123T180000
DTEND;TZID=America/Anchorage:20251123T200000
DTSTAMP:20260419T144752
CREATED:20251113T002503Z
LAST-MODIFIED:20251113T002503Z
UID:1771-1763920800-1763928000@md49lionevents.org
SUMMARY:Anchorage Mabuhay Lions Thanksgiving Dinner for Seniors
DESCRIPTION:
URL:https://md49lionevents.org/event/anchorage-mabuhay-lions-thanksgiving-dinner-for-seniors/
LOCATION:Our Lady of Guadalupe Thanksgiving Dinner for Seniors\, Lunney Center\, 3900 Wisconsin St\, Anchorage\, AK\, 99517\, United States
END:VEVENT
BEGIN:VEVENT
DTSTART;TZID=America/Anchorage:20251121T170000
DTEND;TZID=America/Anchorage:20251121T190000
DTSTAMP:20260419T144752
CREATED:20250920T034914Z
LAST-MODIFIED:20250920T034951Z
UID:1736-1763744400-1763751600@md49lionevents.org
SUMMARY:Willow Lions Skate Night
DESCRIPTION:Willow Lions Skate Night\nCome and join us at our Skate Night starting Sep 12\, once a month\, Sept- April (except Dec)\n2025 – November 21st\n2026 – Jan 16th\,  Feb. 20th\,  March 20th and April 17th.
URL:https://md49lionevents.org/event/willow-lions-skate-night-3/
LOCATION:Willow Elementary School\, 31706 Parks Hwy\, Willow\, AK\, 99688\, United States
END:VEVENT
BEGIN:VEVENT
DTSTART;TZID=America/Anchorage:20251114T180000
DTEND;TZID=America/Anchorage:20251114T220000
DTSTAMP:20260419T144752
CREATED:20250306T040352Z
LAST-MODIFIED:20250408T185017Z
UID:688-1763143200-1763157600@md49lionevents.org
SUMMARY:75th Anniversary Celebration
DESCRIPTION:The Friday night banquet at the 49A Midwinter will be a 75th Anniversary Celebration for two of our District 49A Lions Clubs\, the Spenard Lions and the Mt. McKinley Lions. \nThe Spenard Lions’ charter date is 11/20/50 and Mt McKinley Lions’ is 11/29/50. \n 
URL:https://md49lionevents.org/event/75th-anniversary-celebration/
LOCATION:Lakefront Hotel\, 4800 Spenard Rd\, Anchorage\, AK\, 99517\, United States
END:VEVENT
BEGIN:VEVENT
DTSTART;VALUE=DATE:20251113
DTEND;VALUE=DATE:20251116
DTSTAMP:20260419T144752
CREATED:20250303T195846Z
LAST-MODIFIED:20250408T192134Z
UID:576-1762992000-1763251199@md49lionevents.org
SUMMARY:District 49A Midwinter Conference
DESCRIPTION:DG Robert Posma’s Annual Midwinter Conference for all clubs in District 49A\n 
URL:https://md49lionevents.org/event/district-49a-midwinter-conference/
LOCATION:Lakefront Hotel\, 4800 Spenard Rd\, Anchorage\, AK\, 99517\, United States
END:VEVENT
BEGIN:VEVENT
DTSTART;TZID=America/Anchorage:20251102T120000
DTEND;TZID=America/Anchorage:20251102T170000
DTSTAMP:20260419T144752
CREATED:20250407T182649Z
LAST-MODIFIED:20250408T194841Z
UID:808-1762084800-1762102800@md49lionevents.org
SUMMARY:Juneau Mendenhall Flying Lions Annual BBQ & Auction
DESCRIPTION:Annual Barbecue:  Held in November\, this is one of our largest fundraiser of the year.  All proceeds go directly to the American Diabetes Association.  Volunteers and Lions get up before the crack of dawn to fire the smoker up and spend 6 or 7 hours smoking the ribs to perfection.  Dinner consists of ribs\, cole slaw\, and baked beans.  This event takes place at McGivney’s Sports Bar at the Mendenhall Mall.  It’s an event Club members\, the public\, and volunteers look forward to every year and without their hard work it wouldn’t be the success that it always is.\nDate pending. 
URL:https://md49lionevents.org/event/juneau-mendenhall-flying-lions-annual-bbq-auction/
LOCATION:McGivney’s Sports Bar & Grill\, 9105 Mendenhall Mall Rd\, Juneau\, AK\, 99801\, United States
END:VEVENT
BEGIN:VEVENT
DTSTART;TZID=America/Anchorage:20251102T110000
DTEND;TZID=America/Anchorage:20251102T190000
DTSTAMP:20260419T144752
CREATED:20251029T065348Z
LAST-MODIFIED:20260221T062905Z
UID:1758-1762081200-1762110000@md49lionevents.org
SUMMARY:Free Eye Clinic for Western Alaska Evacuees
DESCRIPTION:Alaska Eye Care Providers and the Lions Clubs in Anchorage Come Together to Provide Care After Typhoon Halong Wipes Out Villages\nDoctors and volunteers and the local Lions Clubs of Anchorage are coming together to help communities that were devastated by Typhoon Halong by holding a free eye clinic November 2\, 2025\, at the Mountain View Lions Clubhouse at 501 N Pine St in Anchorage from 11AM to 7PM. The event will be run on a first-come\, first-served basis.\nRemnants of powerful Typhoon Halong brought disastrous tides to western Alaska’s Yukon-Kuskokwim Delta on Oct 12\, 2025\, uprooting homes\, devastating infrastructure\, and leaving thousands of people homeless and without resources. Numerous communities\, including Tribal communities\, have lost their homes\, food stores\, and personal belongings due to the disaster. While many evacuated to nearby towns like Anchorage\, others have remained in an attempt to rebuild during the harsh winter.\nAlong with food and shelter\, people lost essential medications and medical devices- including corrective glasses. Many people cannot see well enough to perform basic tasks such as driving and working without corrective glasses\, and some rely on ophthalmic medication to control sight-threatening disease.\nThe Eye Guys and Dr Patrick Campaign are joining the local Lions Clubs in offering free eye exams and glasses for community members affected by Typhoon Halong to help residents take the first\, among many\, steps toward recovery. Glasses will be furnished by the Aurora Borealis Lions Eyeglass Recycling Center and through Emergency Disaster Grant VSP Vouchers. The vouchers will be honored by any VSP provider.\nThe Eye Guys believe everyone should have access to good eye care despite their location and what the weather brings. Their teams travel by road and air bringing exams\, glasses\, and eye care straight to Alaskan communities. They have been around since 2005. They are proud to stand with their neighbors\, helping keep Alaskans seeing clearly when it matters most.\nDr Pat Campaign was born and raised in Alaska\, operates as a traveling optometrist and is an advocate for healthcare accessibility. He is a proud Lions club member and will be providing free exams at the weekend clinic.\nLions Club is an international organization whose key initiatives include vision screenings\, eyeglass distribution\, and disaster relief. While Lions Club has historically focused on fighting blindness\, its work includes caring for the environment and supporting underprivileged youth\, childhood cancer initiatives\, hunger\, diabetes\, and mental health. Anchorage is currently home to 9 active local Lions Clubs.\n 
URL:https://md49lionevents.org/event/free-popup-eye-clinic-for-western-alaska-evacuees-planned/
LOCATION:Mt View Lions Club House\, 501 N Pine St\, Anchorage\, AK\, 99508\, United States
END:VEVENT
BEGIN:VEVENT
DTSTART;TZID=America/Anchorage:20251031T173000
DTEND;TZID=America/Anchorage:20251031T190000
DTSTAMP:20260419T144752
CREATED:20250303T194348Z
LAST-MODIFIED:20250408T195912Z
UID:572-1761931800-1761937200@md49lionevents.org
SUMMARY:Willow Trunk or Treat and Haunted Hike
DESCRIPTION:Annual Halloween Trunk or Treat and Haunted Hike.
URL:https://md49lionevents.org/event/willow-trunk-or-treat-and-haunted-hike/
LOCATION:Willow Community Center\, MP 69.5 Parks Highway\, Willow\, AK\, 99688\, United States
END:VEVENT
BEGIN:VEVENT
DTSTART;TZID=America/Anchorage:20251031T170000
DTEND;TZID=America/Anchorage:20251031T190000
DTSTAMP:20260419T144752
CREATED:20250907T172500Z
LAST-MODIFIED:20250907T173142Z
UID:1670-1761930000-1761937200@md49lionevents.org
SUMMARY:Big Lake Lions Trunk or Treat Presents BATS AND BOOS
DESCRIPTION:Come join us for Trick or Treating in Big Lake! Decorate your trunk\, trailer\, truck bed\, tractor\, bus\, van\, or boat and hand out candy to all of the local Bats and Boos! We will be handing out candy from 5PM-7PM.We will have The Pizza Peddler Food truck joining us to fill your bellies before you eat candy.\nIf you would like to participate but cannot attend\, and you would like to donate candy\, it can be delivered to Big Lake MVFCU\, Brewed Oasis\, or Pizza King.\n\nMore info to come!
URL:https://md49lionevents.org/event/big-lake-lions-trunk-or-treats-presents-bats-and-boos/
LOCATION:Big Lake Lions Rec\, 3261 S Big Lake Rd\, Wasilla\, AK\, 99623-9663\, United States
END:VEVENT
BEGIN:VEVENT
DTSTART;TZID=America/Anchorage:20251018T090000
DTEND;TZID=America/Anchorage:20251018T130000
DTSTAMP:20260419T144752
CREATED:20250906T194536Z
LAST-MODIFIED:20250906T194627Z
UID:1644-1760778000-1760792400@md49lionevents.org
SUMMARY:Eyeglass Recycling Day
DESCRIPTION:Wash\, read and sort used glasses for Lions Eyecare
URL:https://md49lionevents.org/event/eyeglass-recycling-3/
LOCATION:Aurora Borealis Lions Eyeglass Recycling Center\, 2925 Newby Rd\, North Pole\, AK\, United States
END:VEVENT
BEGIN:VEVENT
DTSTART;TZID=America/Anchorage:20251017T170000
DTEND;TZID=America/Anchorage:20251017T190000
DTSTAMP:20260419T144752
CREATED:20250920T034624Z
LAST-MODIFIED:20250920T035133Z
UID:1734-1760720400-1760727600@md49lionevents.org
SUMMARY:Willow Lions Skate Night
DESCRIPTION:Willow Lions Skate Night\nCome and join us at our Skate Night once a month\, Sept- April (except Dec)\n2025 – October 17th\,  November 21st\n2026 – Jan 16th\,  Feb. 20th\,  March 20th and April 17th.
URL:https://md49lionevents.org/event/willow-lions-skate-night/
LOCATION:Willow Elementary School\, 31706 Parks Hwy\, Willow\, AK\, 99688\, United States
END:VEVENT
BEGIN:VEVENT
DTSTART;TZID=America/Anchorage:20251015T174500
DTEND;TZID=America/Anchorage:20251015T194500
DTSTAMP:20260419T144752
CREATED:20250907T191743Z
LAST-MODIFIED:20250917T223122Z
UID:1693-1760550300-1760557500@md49lionevents.org
SUMMARY:Challenge Alaska for Goal Ball
DESCRIPTION:Volunteer with Challenge Alaska for Goal Ball\nGoal Ball allows visually impaired persons to play a ball game similar to a modified soccer game.\nHelp is needed to establish the court before each game by taping it up then disassembling the court after each game.\nActual game time is 6:15PM to 7:30PM\, volunteers are needed from 5:45PM until 7:45PM\, at the Spenard Rec Center.\nPlease consider volunteering each Wednesday from Sep 3 until the last game on October 15th.
URL:https://md49lionevents.org/event/challenge-alaska-for-goal-ball-3/
LOCATION:Spenard Rec Center\, 2020 W 48th Ave\, Anchorage\, 99517\, United States
END:VEVENT
BEGIN:VEVENT
DTSTART;TZID=America/Anchorage:20251008T174500
DTEND;TZID=America/Anchorage:20251008T194500
DTSTAMP:20260419T144752
CREATED:20250907T192359Z
LAST-MODIFIED:20250917T223215Z
UID:1698-1759945500-1759952700@md49lionevents.org
SUMMARY:Challenge Alaska for Goal Ball
DESCRIPTION:Volunteer with Challenge Alaska for Goal Ball\nGoal Ball allows visually impaired persons to play a ball game similar to a modified soccer game.\nHelp is needed to establish the court before each game by taping it up then disassembling the court after each game.\nActual game time is 6:15PM to 7:30PM\, volunteers are needed from 5:45PM until 7:45PM\, at the Spenard Rec Center.\nPlease consider volunteering each Wednesday from Sep 3 until the last game on October 15th.
URL:https://md49lionevents.org/event/challenge-alaska-for-goal-ball-5/
LOCATION:Spenard Rec Center\, 2020 W 48th Ave\, Anchorage\, 99517\, United States
END:VEVENT
BEGIN:VEVENT
DTSTART;TZID=America/Anchorage:20251001T174500
DTEND;TZID=America/Anchorage:20251001T194500
DTSTAMP:20260419T144752
CREATED:20250907T192108Z
LAST-MODIFIED:20250917T223309Z
UID:1695-1759340700-1759347900@md49lionevents.org
SUMMARY:Challenge Alaska for Goal Ball
DESCRIPTION:Volunteer with Challenge Alaska for Goal Ball\nGoal Ball allows visually impaired persons to play a ball game similar to a modified soccer game.\nHelp is needed to establish the court before each game by taping it up then disassembling the court after each game.\nActual game time is 6:15PM to 7:30PM\, volunteers are needed from 5:45PM until 7:45PM\, at the Spenard Rec Center.\nPlease consider volunteering each Wednesday from Sep 3 until the last game on October 15th.
URL:https://md49lionevents.org/event/challenge-alaska-for-goal-ball-4/
LOCATION:Spenard Rec Center\, 2020 W 48th Ave\, Anchorage\, 99517\, United States
END:VEVENT
BEGIN:VEVENT
DTSTART;VALUE=DATE:20250921
DTEND;VALUE=DATE:20250922
DTSTAMP:20260419T144752
CREATED:20250907T174555Z
LAST-MODIFIED:20250907T175825Z
UID:1675-1758412800-1758499199@md49lionevents.org
SUMMARY:Anchorage Alaska Sports Car Club Presents Fall Drift
DESCRIPTION:Come and join the Alaska Sports Car Club https://ascc907.square.site/ for our season closing drift event at Alaska Raceway Park. Our final event on asphalt for the remainder of 2025. Come and slide your way into the winter.\nONLINE REGISTRATION ONLY & WILL CLOSE ON WEDNESDAY 9/18/2025.\nhttps://www.motorsportreg.com/…/2025-arp-drift-2-alaska…\n– Drifting at Alaska Raceway Park to close the summer season. We will be creating a drift course on in the facility parking areas.\nPARTICIPATION NEEDS\n– Current Alaska Sports Car Club Member. $100 for a calendar year. – Pay the Event Fee of $75. – Sign the Waiver. Whether you are driving or not\, the waiver needs to be signed. – Pass a standard AutoCross style tech inspection. – Snell 2015 Helmet or newer\nSCHEDULE:\n08:00 AM – Driver Check-Ins & Tech Inspections09:30 AM – Driver’s Meeting10:00 AM – Course Walkabout\, Driver’s & Workers to Grid10:30 AM – Cars on Course for Practice Session12:00 PM – Qualifying for Drift Competition01:00 PM – Lunch01:30 PM – Drift Competition03:30 PM – Moar Drifting & Practice Drifting05:30 PM – End Session & Course Cleanup06:30 PM – Drift Competition Awards\nIf you come out and play\, please expect to help clean up the course.\nOtherwise\, bring lots of tires and dress warm!
URL:https://md49lionevents.org/event/alaska-sports-car-club-presents-fall-drift/
LOCATION:Alaska Raceway Park\, 5599 S Raceway\, Palmer\, AK\, 99645\, United States
END:VEVENT
BEGIN:VEVENT
DTSTART;TZID=America/Anchorage:20250923T100000
DTEND;TZID=America/Anchorage:20250923T160000
DTSTAMP:20260419T144752
CREATED:20250710T011119Z
LAST-MODIFIED:20250710T011119Z
UID:1575-1758621600-1758643200@md49lionevents.org
SUMMARY:Project Homeless Connect 2025
DESCRIPTION:This community-wide\, one-day\, one-stop resource fair for individuals experiencing homelessness in Anchorage will take place on Sept. 23\, 2025\, at the Egan Civic & Convention Center\, 555 W. Fifth Ave. Our unhoused neighbors will get help with essential services such as housing\, healthcare\, employment support\, legal aid and more. Attendees will also receive lunch\, supplies\, and winter gear. Volunteers needed on Sept. 23 and the day before for set-up.\nThe Lions Vision Team of District 49A will be there to do preliminary eye exams and give out glasses to this in need.
URL:https://md49lionevents.org/event/project-homeless-connect-2025/
LOCATION:William A. Egan Civic & Convention Center\, 555 W 5th Ave\, Anchorage\, AK\, 99501\, United States
END:VEVENT
BEGIN:VEVENT
DTSTART;VALUE=DATE:20250918
DTEND;VALUE=DATE:20250921
DTSTAMP:20260419T144752
CREATED:20250303T194022Z
LAST-MODIFIED:20250408T200853Z
UID:566-1758153600-1758412799@md49lionevents.org
SUMMARY:USA/Canada Lions Leadership Forum
DESCRIPTION:  \n \nThe largest and best Lions Club Leadership training event in the world.  With over 70 seminar training sessions related to developing quality Lions Clubs and thousands of Lions Leaders share their experiences\, the USA/Canada Lions Leadership Forum is for you! \nThis years theme-  Learn\, Grow\, Lead. \n 
URL:https://md49lionevents.org/event/usa-canada-lions-leadership-forum/
LOCATION:Waterfront Convention Center\, 777 Harrah’s Blvd\, Memphis\, TN\, United States
END:VEVENT
END:VCALENDAR