BEGIN:VCALENDAR
VERSION:2.0
PRODID:-//Alaska Lions Events - ECPv6.15.20//NONSGML v1.0//EN
CALSCALE:GREGORIAN
METHOD:PUBLISH
X-WR-CALNAME:Alaska Lions Events
X-ORIGINAL-URL:https://md49lionevents.org
X-WR-CALDESC:Events for Alaska Lions Events
REFRESH-INTERVAL;VALUE=DURATION:PT1H
X-Robots-Tag:noindex
X-PUBLISHED-TTL:PT1H
BEGIN:VTIMEZONE
TZID:America/Anchorage
BEGIN:DAYLIGHT
TZOFFSETFROM:-0900
TZOFFSETTO:-0800
TZNAME:AKDT
DTSTART:20240310T110000
END:DAYLIGHT
BEGIN:STANDARD
TZOFFSETFROM:-0800
TZOFFSETTO:-0900
TZNAME:AKST
DTSTART:20241103T100000
END:STANDARD
BEGIN:DAYLIGHT
TZOFFSETFROM:-0900
TZOFFSETTO:-0800
TZNAME:AKDT
DTSTART:20250309T110000
END:DAYLIGHT
BEGIN:STANDARD
TZOFFSETFROM:-0800
TZOFFSETTO:-0900
TZNAME:AKST
DTSTART:20251102T100000
END:STANDARD
BEGIN:DAYLIGHT
TZOFFSETFROM:-0900
TZOFFSETTO:-0800
TZNAME:AKDT
DTSTART:20260308T110000
END:DAYLIGHT
BEGIN:STANDARD
TZOFFSETFROM:-0800
TZOFFSETTO:-0900
TZNAME:AKST
DTSTART:20261101T100000
END:STANDARD
END:VTIMEZONE
BEGIN:VEVENT
DTSTART;TZID=America/Anchorage:20250910T174500
DTEND;TZID=America/Anchorage:20250910T194500
DTSTAMP:20260419T163918
CREATED:20250906T202609Z
LAST-MODIFIED:20250917T223633Z
UID:1648-1757526300-1757533500@md49lionevents.org
SUMMARY:Challenge Alaska for Goal Ball
DESCRIPTION:Volunteer with Challenge Alaska for Goal Ball\nGoal Ball allows visually impaired persons to play a ball game similar to a modified soccer game.\nHelp is needed to establish the court before each game by taping it up then disassembling the court after each game.\nActual game time is 6:15PM to 7:30PM\, volunteers are needed from 5:45PM until 7:45PM\, at the Spenard Rec Center.\nPlease consider volunteering each Wednesday from Sep 3 until the last game on October 15th.
URL:https://md49lionevents.org/event/challenge-alaska-for-goal-ball/
LOCATION:Spenard Rec Center\, 2020 W 48th Ave\, Anchorage\, 99517\, United States
END:VEVENT
BEGIN:VEVENT
DTSTART;TZID=America/Anchorage:20250906T130000
DTEND;TZID=America/Anchorage:20250906T170000
DTSTAMP:20260419T163918
CREATED:20250307T194451Z
LAST-MODIFIED:20250904T215504Z
UID:795-1757163600-1757178000@md49lionevents.org
SUMMARY:Kenai Lions 30th Annual Rubber Ducky Race
DESCRIPTION:Annual Rubber Ducky Races\nSince 1995 the Kenai Lions Club has been able to use money raised from this event to fund programs that benefit our beautiful city year-round.
URL:https://md49lionevents.org/event/kenai-lions-30th-annual-rubber-ducky-race/
LOCATION:Cunningham Park\, 2432 Beaver Loop Rd\, Kenai\, AK\, 99611\, United States
END:VEVENT
BEGIN:VEVENT
DTSTART;TZID=America/Anchorage:20250903T174500
DTEND;TZID=America/Anchorage:20250903T194500
DTSTAMP:20260419T163918
CREATED:20250907T190835Z
LAST-MODIFIED:20250917T223435Z
UID:1687-1756921500-1756928700@md49lionevents.org
SUMMARY:Challenge Alaska for Goal Ball
DESCRIPTION:Volunteer with Challenge Alaska for Goal Ball\nGoal Ball allows visually impaired persons to play a ball game similar to a modified soccer game.\nHelp is needed to establish the court before each game by taping it up then disassembling the court after each game.\nActual game time is 6:15PM to 7:30PM\, volunteers are needed from 5:45PM until 7:45PM\, at the Spenard Rec Center.\nPlease consider volunteering each Wednesday from Sep 3 until the last game on October 15th.
URL:https://md49lionevents.org/event/1687/
LOCATION:Spenard Rec Center\, 2020 W 48th Ave\, Anchorage\, 99517\, United States
END:VEVENT
BEGIN:VEVENT
DTSTART;TZID=America/Anchorage:20250816T180000
DTEND;TZID=America/Anchorage:20250816T233000
DTSTAMP:20260419T163918
CREATED:20250303T181439Z
LAST-MODIFIED:20250408T201952Z
UID:528-1755367200-1755387000@md49lionevents.org
SUMMARY:Houston Founders Day Festival
DESCRIPTION:The tiny town of Houston triples its population (all the way up to 6\,000!) during this one-day family-friendly blowout on the third Saturday in August. And the best part is that everything’s free! Kids’ games and bouncy rooms\, dunk tanks\, fishing ponds\, slides\, and a BBQ…it’s all covered by the folks of Houston. \nThe block party-style festival\, which has been going on for at least 30 years\, was started for kids\, and they’ve kept the focus on the youngsters. So bring the family for pie-eating contests\, free hot dogs and burgers\, and games. \nThere’s also a poker tournament and garage sale (for the adults) and what the folks of Houston claim is the best fireworks display in the state (a member of their fire department owns a pyrotechnic company and puts on the show). The Air Force Band also plays during the evening\, and there are free tours of a life-flight helicopter.
URL:https://md49lionevents.org/event/houston-founders-day-festival/
LOCATION:Houston Fire Department\, 57.4 Parks Hwy\, Houston\, AK\, United States
END:VEVENT
BEGIN:VEVENT
DTSTART;TZID=America/Anchorage:20250816T080000
DTEND;TZID=America/Anchorage:20250816T170000
DTSTAMP:20260419T163918
CREATED:20250615T203843Z
LAST-MODIFIED:20250615T203843Z
UID:1502-1755331200-1755363600@md49lionevents.org
SUMMARY:Eyeglass Recycling Day
DESCRIPTION:We have an open station waiting for you. Enjoy the fun and serve our cause. 
URL:https://md49lionevents.org/event/eyeglass-recycling-day-7/
LOCATION:Aurora Borealis Lions Eyeglass Recycling Center\, 2925 Newby Rd\, North Pole\, AK\, United States
END:VEVENT
BEGIN:VEVENT
DTSTART;TZID=America/Anchorage:20250815T110000
DTEND;TZID=America/Anchorage:20250901T190000
DTSTAMP:20260419T163918
CREATED:20250303T192030Z
LAST-MODIFIED:20250824T233315Z
UID:559-1755255600-1756753200@md49lionevents.org
SUMMARY:Alaska State Fair Visionscreening
DESCRIPTION:District 49 A Lions Clubs will be offering free Visionscreening every day at the fair out of the district vision trailer.
URL:https://md49lionevents.org/event/alaska-state-fair-visionscreening/
LOCATION:Alaska State Fairgrounds\, 2075 Glen Hwy\, Palmer\, AK\, 99645\, United States
END:VEVENT
BEGIN:VEVENT
DTSTART;TZID=America/Anchorage:20250809T120000
DTEND;TZID=America/Anchorage:20250809T160000
DTSTAMP:20260419T163918
CREATED:20250702T171217Z
LAST-MODIFIED:20250706T070456Z
UID:1517-1754740800-1754755200@md49lionevents.org
SUMMARY:Fox Lions Community Picnic
DESCRIPTION:Join us for our Annual Community Appreciation Picnic.\nFood\, Games\, Basket Raffle\, Moose Nugget Drop\, Silent Auction.\nPlease bring your favorite side dish or dessert to share.\nHamburgers\, hot dogs and all the fixin’s will be provided.\nDownload our Flyer here
URL:https://md49lionevents.org/event/fox-lions-community-picnic/
LOCATION:Fox Park and Pavilion\, 2285 Steese Highway\, Fairbanks\, AK\, 99712\, United States
END:VEVENT
BEGIN:VEVENT
DTSTART;TZID=America/Anchorage:20250809T080000
DTEND;TZID=America/Anchorage:20250809T170000
DTSTAMP:20260419T163918
CREATED:20250615T203244Z
LAST-MODIFIED:20250615T203626Z
UID:1500-1754726400-1754758800@md49lionevents.org
SUMMARY:Eyeglass Recycling Day
DESCRIPTION:We have an open station waiting for you. Enjoy the fun and serve our cause. 
URL:https://md49lionevents.org/event/eyeglass-recycling-day-6/
LOCATION:Aurora Borealis Lions Eyeglass Recycling Center\, 2925 Newby Rd\, North Pole\, AK\, United States
END:VEVENT
BEGIN:VEVENT
DTSTART;VALUE=DATE:20250809
DTEND;VALUE=DATE:20250811
DTSTAMP:20260419T163918
CREATED:20250320T192724Z
LAST-MODIFIED:20250321T043128Z
UID:897-1754697600-1754870399@md49lionevents.org
SUMMARY:Girdwood Annual Blueberry Festival
DESCRIPTION:August in Alaska means there’s still plenty of summer left to enjoy at Alyeska Resort. One of the best ways to get outside and spend time with your family is by picking blueberries\, celebrating blueberries and being surrounded by like-minded blueberry enthusiasts in the Chugach Mountains! These delectable little morsels pack a flavorful punch and luckily for us\, they grow plentiful on Alaska’s mountains. Stay the night at Alyeska and take advantage of the annual Blueberry-themed event with vendors\, live music\, a pie-eating contest\, kids zone\, and of course\, berry picking!\nVisit the Lions’ booth where they sell blueberry goodies\, including jam\, muffins\, bb lemonade\, etc. A sampling of John Trautner’s photos will be on display for sale.
URL:https://md49lionevents.org/event/girdwood-annual-blueberry-festival/
LOCATION:Alyeska Resort\, 1000 Arlberg Ave\, Girdwood\, AK\, 99587\, United States
END:VEVENT
BEGIN:VEVENT
DTSTART;TZID=America/Anchorage:20250808T120000
DTEND;TZID=America/Anchorage:20250808T150000
DTSTAMP:20260419T163918
CREATED:20250303T191052Z
LAST-MODIFIED:20250702T220126Z
UID:553-1754654400-1754665200@md49lionevents.org
SUMMARY:Fairview Back to School Health Fair
DESCRIPTION:The Lions 49A Vision team will be offering free Visionscreening to the students and their families out of the district vision trailer.\n \nThis back-to-school event hosted by the Anchorage Health Department and Parks & Rec’s Fairview Recreation Center is for Fairview & surrounding neighborhood kids with school supply giveaways. They invited community & social service organizations to staff booths or donate supplies or useful items.\nEach kid attending the event will be given a passport. They will need to visit and get a stamp from each of the booths\, The student will receive a backpack and school supplies when they turn in their filled passport. In the past we have had anywhere from 500 – 1500 people show up to the event.\n\n 
URL:https://md49lionevents.org/event/fairview-back-to-school-health-fair/
LOCATION:Fairview Rec Center\, 1121 E 10th Ave\, Anchorage\, AK\, United States
END:VEVENT
BEGIN:VEVENT
DTSTART;TZID=America/Anchorage:20250803T130000
DTEND;TZID=America/Anchorage:20250803T160000
DTSTAMP:20260419T163918
CREATED:20250803T030710Z
LAST-MODIFIED:20250803T030710Z
UID:1615-1754226000-1754236800@md49lionevents.org
SUMMARY:Club Officer Training
DESCRIPTION:What are the duties of a Club President? Or Secretary? Or Treasurer?\nHow do you know if you are doing a good job as a Club Officer?\nCome to the District 49A Global Leadership Team’s Club Officer Training classes to find out how to be a good Club Officer. \n\nNo registration required.
URL:https://md49lionevents.org/event/club-officer-training/
LOCATION:Mt View Lions Club House\, 501 N Pine St\, Anchorage\, AK\, 99508\, United States
END:VEVENT
BEGIN:VEVENT
DTSTART;TZID=America/Anchorage:20250802T093000
DTEND;TZID=America/Anchorage:20250802T160000
DTSTAMP:20260419T163918
CREATED:20250307T164551Z
LAST-MODIFIED:20250408T203456Z
UID:784-1754127000-1754150400@md49lionevents.org
SUMMARY:First District 49A Cabinet Meeting
DESCRIPTION:1st quarter 49A Cabinet Meeting\, 2025 – 2026 Lions Year.\nDistrict Governor Robert D Posma\n 
URL:https://md49lionevents.org/event/49a-cabinet-meeting/
LOCATION:Big Lake Lions Rec\, 3261 S Big Lake Rd\, Wasilla\, AK\, 99623-9663\, United States
END:VEVENT
BEGIN:VEVENT
DTSTART;TZID=America/Anchorage:20250801T110000
DTEND;TZID=America/Anchorage:20250801T190000
DTSTAMP:20260419T163918
CREATED:20250711T060627Z
LAST-MODIFIED:20250711T060924Z
UID:1584-1754046000-1754074800@md49lionevents.org
SUMMARY:HUGSS- Back to School JAM
DESCRIPTION:Help Us Give School Supplies (HUGSS) is a back-to-school event that provides essential school supplies and backpacks to ASD students\, helping them start the school year confident\, prepared\, and ready to learn.\nThe Lions Vision Team of District 49A will be on-site\, in the vision trailer\, doing free Visionscreening.\n 
URL:https://md49lionevents.org/event/hugss-back-to-school-jam/
LOCATION:Begich Middle School\, 7440 Creekside Center Dr\, Anchorage\, AK\, 99504\, United States
END:VEVENT
BEGIN:VEVENT
DTSTART;TZID=America/Anchorage:20250729T110000
DTEND;TZID=America/Anchorage:20250729T160000
DTSTAMP:20260419T163918
CREATED:20250317T223747Z
LAST-MODIFIED:20250408T203757Z
UID:867-1753786800-1753804800@md49lionevents.org
SUMMARY:Stuff the Bus Back to School Fair
DESCRIPTION:The Palmer Lions will be doing free Visionscreening at the Annual Stuff the Bus Back to School Fair. The event offers the following to the community: \n\nBackpacks/supplies distributed: 1050 (United Way of Mat-Su and St. Bartholomew’s Church are working to distribute more supplies to agencies serving vulnerable populations\, and to complete contact with our wait list of those who were unable to attend.)\nHaircuts: 45-Style Starts Here Academy did an INCREDIBLE job last year. We are so thankful for their hard work and professional touch.\nNetworking & Connection: 14 agencies participated in the Vendor Fair last year! It was so great to see everyone\, catch up on what’s happening for fellow nonprofits and share information with all the families.\nOverall Attendance: UWMS estimates that over 1500 community members will visit the event this year. This is a combination of K-12 students\, their parents/guardians\, younger siblings or accompanying little ones ages 5 and under\, volunteers and vendors. There will be something  for everyone\, even if they were not receiving backpacks and supplies: games\, hot dogs\, resource information\, and more.
URL:https://md49lionevents.org/event/stuff-the-bus-back-to-school-fair/
LOCATION:Amazing Grace Academy\, 2238 Inner Springer Loop\, Palmer\, AK\, 99645
END:VEVENT
BEGIN:VEVENT
DTSTART;TZID=America/Anchorage:20250726T120000
DTEND;TZID=America/Anchorage:20250726T140000
DTSTAMP:20260419T163918
CREATED:20250306T034649Z
LAST-MODIFIED:20250722T010031Z
UID:681-1753531200-1753538400@md49lionevents.org
SUMMARY:34th Annual Fred Walatka Memorial Fish Feed 
DESCRIPTION:Annual Fred Walatka Memorial Fish Feed\nADMISSION:\n$20 per Adult/ $10 for under age 13\nTickets Available from Spenard Lions Club Members or at the door.  *One plate per ticket*\nFresh Red Salmon – Halibut – Salad – Assorted Other Stuff – Dessert\nLive Music outside\nProceeds will go toward the 75th Club Anniversary Celebration.to be held  during the 2025 Midwinter Conference in November.\n  \n 
URL:https://md49lionevents.org/event/34th-annual-fred-walatka-memorial-fish-feed/
LOCATION:Spenard Lions Club\, 1407 W 32nd Ave\, Anchorage\, AK\, 99503\, United States
END:VEVENT
BEGIN:VEVENT
DTSTART;VALUE=DATE:20250725
DTEND;VALUE=DATE:20250804
DTSTAMP:20260419T163918
CREATED:20250307T021846Z
LAST-MODIFIED:20250408T204701Z
UID:731-1753401600-1754265599@md49lionevents.org
SUMMARY:Bingo and Pull Tabs at the Tanana Valley State Fair
DESCRIPTION:Come enjoy bingo the old fashion way!\n$1 per card for bingo and pull tabs. Proceeds benefit local nonprofits. \nSunday thru Thursday   12PM to 10 PM \nFriday and Saturday.     12PM to 12 AM
URL:https://md49lionevents.org/event/bingo-and-pull-tabs-at-the-tanana-valley-state-fair/
LOCATION:Tanana Valley State Fair\, 1800 College Rd\, Fairbanks\, AK\, 99709\, United States
END:VEVENT
BEGIN:VEVENT
DTSTART;TZID=America/Anchorage:20250719T090000
DTEND;TZID=America/Anchorage:20250719T130000
DTSTAMP:20260419T163918
CREATED:20250615T202949Z
LAST-MODIFIED:20250615T202949Z
UID:1496-1752915600-1752930000@md49lionevents.org
SUMMARY:Eyeglass Recycling Day
DESCRIPTION:We have an open station waiting for you. Enjoy the fun and serve our cause. 
URL:https://md49lionevents.org/event/eyeglass-recycling-day-5/
LOCATION:AK
END:VEVENT
BEGIN:VEVENT
DTSTART;TZID=America/Anchorage:20250719T080000
DTEND;TZID=America/Anchorage:20250719T150000
DTSTAMP:20260419T163918
CREATED:20250322T003658Z
LAST-MODIFIED:20250409T045139Z
UID:914-1752912000-1752937200@md49lionevents.org
SUMMARY:Annual Benton Bay Lions Golf Outing
DESCRIPTION:2025 Golf Outing for the Benton Bay Athletic Lions Club Foundation\n\n\n\n\n\n\n\n\n\n\n\n \nWhat-   Proceeds to Benefit Youth Scholarships\nWhen-  Saturday\, July 19\, 2025\nWhere- Moose Run Hill Course\n  \nOur Commitment to Sports\nOur club is committed to supporting the future of sports as well as many of the other International Lions Clubs goals such as preventing blindness. Our club’s main goal still remains supporting local amateur sports programs\, primarily high school sports and UAA athletics where we remain active. This year we will be using the proceeds from this golf event to continue support our youth scholarship program. \nScholarships\nWith your support we will be able pay annual scholarships to up to eight students each year (two new students each year). We award the scholarships to student athletes\, who have already distinguished themselves in service to their community. \nHelp us Make it Possible\nDonations in Kind: We would appreciate donations of food\, prizes\, items for a goodie bag\, or other items we can use for the event.
URL:https://md49lionevents.org/event/annual-benton-bay-lions-golf-outing/
LOCATION:Moose Run Golf Course\, 27000 Arctic Valley Rd\, Joint Base Elmendorf-Richardson\, AK\, 99505\, United States
END:VEVENT
BEGIN:VEVENT
DTSTART;VALUE=DATE:20250718
DTEND;VALUE=DATE:20250721
DTSTAMP:20260419T163918
CREATED:20250703T064444Z
LAST-MODIFIED:20250703T070821Z
UID:1537-1752796800-1753055999@md49lionevents.org
SUMMARY:48 Hour Marathon Glasses Read-A-Thon
DESCRIPTION:The marathon in January was such a success\, we decided to hold another marathon to see if we can set a new record of glasses touched in the 48 hours. Come and help us set a new record.\nTo sign up\, all you have to do is scan the qr code and sign-up for 2 hour increments.\nThere is outside parking for rv’s (if our outlying clubs\, as well as our Anchorage friends would like to come up).
URL:https://md49lionevents.org/event/48-hour-marathon-glasses-read-a-thon/
LOCATION:Aurora Borealis Lions Eyeglass Recycling Center\, 2925 Newby Rd\, North Pole\, AK\, United States
END:VEVENT
BEGIN:VEVENT
DTSTART;TZID=America/Anchorage:20250715T120000
DTEND;TZID=America/Anchorage:20250715T140000
DTSTAMP:20260419T163918
CREATED:20250523T030610Z
LAST-MODIFIED:20250729T214811Z
UID:1454-1752580800-1752588000@md49lionevents.org
SUMMARY:Healthy Babies are Happy Babies Summer Resource Fair
DESCRIPTION:
URL:https://md49lionevents.org/event/summer-resource-fair/
LOCATION:Chanshtu Muldoon \, Muldoon Town Square\, 1301 Muldoon Rd\, Anchorage\, 99504\, United States
END:VEVENT
BEGIN:VEVENT
DTSTART;VALUE=DATE:20250713
DTEND;VALUE=DATE:20250718
DTSTAMP:20260419T163918
CREATED:20250313T174926Z
LAST-MODIFIED:20250408T213919Z
UID:834-1752364800-1752796799@md49lionevents.org
SUMMARY:107th Annual Lions International Convention
DESCRIPTION:Orlando\, Florida welcomes Lions and Leos from around the world for sun\, fun\, service and the 107th Lions International Convention. Famous for its theme parks\, exciting attractions and vacation vibes\, the Orlando Area is a top global destination and an exciting site for our biggest event of the year. Come be part of it all in a city that’s pure magic!
URL:https://md49lionevents.org/event/107th-annual-lions-international-convention/
LOCATION:Orange County Convention Center\, Universal Blvd\, Orlando\, FL\, 32819\, United States
END:VEVENT
BEGIN:VEVENT
DTSTART;TZID=America/Anchorage:20250712T120000
DTEND;TZID=America/Anchorage:20250712T160000
DTSTAMP:20260419T163918
CREATED:20250703T064413Z
LAST-MODIFIED:20250704T011036Z
UID:1543-1752321600-1752336000@md49lionevents.org
SUMMARY:Fairbanks Offroad Lions Official Park Opening
DESCRIPTION:          \n\nThe Fairbanks Offroad Lions are hosting an event on July 12\, 2025\, for a “Soft Opening” of the Fairbanks Offroad Lions Offroad Park.\nThey will be grilling yummies from noon to one.\nPlease contact Lion Cory Bellows at (907) 378-8240 for more information.
URL:https://md49lionevents.org/event/offroad-lions-official-offroad-park-opening/
LOCATION:Tanana Lakes Recreation Area\, 1560 Saddle Ave\, Fairbanks\, AK\, 99701\, United States
END:VEVENT
BEGIN:VEVENT
DTSTART;TZID=America/Anchorage:20250712T090000
DTEND;TZID=America/Anchorage:20250712T130000
DTSTAMP:20260419T163918
CREATED:20250615T202755Z
LAST-MODIFIED:20250615T202755Z
UID:1494-1752310800-1752325200@md49lionevents.org
SUMMARY:Eyeglass Recycling Day
DESCRIPTION:We have an open station waiting for you. Enjoy the fun and serve our cause. 
URL:https://md49lionevents.org/event/eyeglass-recycling-day-4/
LOCATION:Aurora Borealis Lions Eyeglass Recycling Center\, 2925 Newby Rd\, North Pole\, AK\, United States
END:VEVENT
BEGIN:VEVENT
DTSTART;TZID=America/Anchorage:20250712T080000
DTEND;TZID=America/Anchorage:20250712T170000
DTSTAMP:20260419T163918
CREATED:20250303T185502Z
LAST-MODIFIED:20250408T214951Z
UID:545-1752307200-1752339600@md49lionevents.org
SUMMARY:Bear Paw Festival Parade
DESCRIPTION:Our Lions of District 49A will be marching in the parade with the district vision trailer.\n  \n \n  \n  \n  \n 
URL:https://md49lionevents.org/event/bear-paw-festival-parade/
LOCATION:AK
END:VEVENT
BEGIN:VEVENT
DTSTART;TZID=America/Anchorage:20250709T180000
DTEND;TZID=America/Anchorage:20250709T210000
DTSTAMP:20260419T163918
CREATED:20250303T184040Z
LAST-MODIFIED:20250408T221052Z
UID:541-1752084000-1752094800@md49lionevents.org
SUMMARY:Palmer Lions Kids Day
DESCRIPTION:Palmer Lions will be offering free Visionscreening at the game- out of the District Vision Trailer. Game is Miners vs Pilots
URL:https://md49lionevents.org/event/palmer-lions-kids-day/
LOCATION:Hermon Brothers Field\, Alaska Fairgrounds\, Palmer\, AK\, United States
END:VEVENT
BEGIN:VEVENT
DTSTART;TZID=America/Anchorage:20250704T110000
DTEND;TZID=America/Anchorage:20250704T160000
DTSTAMP:20260419T163918
CREATED:20250303T052201Z
LAST-MODIFIED:20250408T221853Z
UID:519-1751626800-1751644800@md49lionevents.org
SUMMARY:Willow Lions Parade and BBQ
DESCRIPTION:The Willow Area Community Organization (WACO) in Willow\, Alaska hosts a 4th of July parade and picnic.\nStaging for the parade is at the Baptist Church at 11AM. The parade starts at noon and is followed by a picnic at the Willow Community Center.
URL:https://md49lionevents.org/event/willow-lions-parade-and-bbq/
LOCATION:Willow Community Center\, MP 69.5 Parks Highway\, Willow\, AK\, 99688\, United States
END:VEVENT
BEGIN:VEVENT
DTSTART;TZID=America/Anchorage:20250704T083000
DTEND;TZID=America/Anchorage:20250704T130000
DTSTAMP:20260419T163918
CREATED:20250303T050838Z
LAST-MODIFIED:20250303T050838Z
UID:512-1751617800-1751634000@md49lionevents.org
SUMMARY:Downtown Anchorage Veterans Parade
DESCRIPTION:The Veterans 4th of July Parade Council\, Inc. invites you to participate in the Veterans 4th of July Parade\, a Proud Tradition established by Anchorage Veterans in 1927. The parade is a family-oriented event taking place in downtown Anchorage to celebrate the Birth of our Nation and to Honor Her Military and their Families. The Parade is a great opportunity for your organization to show your support for our Country\, our State and to thank our Military and their Families for their Service and their Sacrifices. \nThe parade will start at 11:00am on July 4th.  Staging will begin at 8:30am – 9:15am and the judging will begin at 9:30am – 10:15am.  Awards will be presented at 10:30am.\n \nThe District 49A Lions Vision Trailer will be in the parade.
URL:https://md49lionevents.org/event/downtown-anchorage-veterans-parade/
LOCATION:Downtown Anchorage\, Delaney Park Strip\, Anchorage\, AK\, United States
END:VEVENT
BEGIN:VEVENT
DTSTART;VALUE=DATE:20250704
DTEND;VALUE=DATE:20250705
DTSTAMP:20260419T163918
CREATED:20250303T182549Z
LAST-MODIFIED:20250408T224856Z
UID:530-1751587200-1751673599@md49lionevents.org
SUMMARY:Houston Water Works Festival
DESCRIPTION:Alaska’s largest squirt gun scuffle\, Houston Fire Department encourages youths (and the young at heart) to enjoy their Independence Day in a safe and engaging environment. Save the fireworks for the professionals\, and stay cool in the sun. There will be fire truck demonstrations\, water slides\, a snack and drinks bar for the kids.
URL:https://md49lionevents.org/event/houston-water-works-festival/
LOCATION:Houston Fire Department\, 57.4 Parks Hwy\, Houston\, AK\, United States
END:VEVENT
BEGIN:VEVENT
DTSTART;TZID=America/Anchorage:20250703T180000
DTEND;TZID=America/Anchorage:20250703T233000
DTSTAMP:20260419T163918
CREATED:20250303T045640Z
LAST-MODIFIED:20250408T225551Z
UID:509-1751565600-1751585400@md49lionevents.org
SUMMARY:Annual “Uncle Sam” Sheldon Memorial 3rd of July Fireworks Extravaganza
DESCRIPTION:  \nThe Eagle River Lions club host their annual July 3rd Independent Day celebration for the community.  Come out and enjoy music\, vendors\, beer garden\, kids activities and a fantastic firework display.  The SLML host the face and hair painting booth and provide free vision screening in the vision trailer and help ER Lions where needed.
URL:https://md49lionevents.org/event/annual-uncle-sam-sheldon-memorial-3rd-of-july-fireworks-extravaganza/
LOCATION:Eagle River Lions Park\, 18344 Eagle River Rd\, Eagle River\, AK\, 99577\, United States
END:VEVENT
BEGIN:VEVENT
DTSTART;TZID=America/Anchorage:20250627T080000
DTEND;TZID=America/Anchorage:20250630T170000
DTSTAMP:20260419T163918
CREATED:20250303T003749Z
LAST-MODIFIED:20250409T005442Z
UID:471-1751011200-1751302800@md49lionevents.org
SUMMARY:Sutton Racing Lions Secret Ninja Dirtbike Camp
DESCRIPTION:  \n  \n2025 Super Ninja Dirt Bike Camp is officially full!! \n\nTentative schedule for\n 2025 dirt bike camp \nFriday\, June 27th \n5 pm gates open for check-in and parking/pit set-up\nParking is assigned (Arrive together to pit together!)\n7pm RIDERS MEETING- BIKE AND GEAR CHECKS -TRACK WALK​-PIZZA\n​\nSaturday\, June 28th\n9AM-1PM TRAINING\n1PM-3PM LUNCH PROVIDED FOR ALL RIDERS\nBIKE MAINTENANCE TIME\n3PM-6:00 PM TRAINING\n6-8PM OPTIONAL BIKE MAINTENANCE AND TIPS\nSESSION (PARENTS BE SURE TO JOIN\nLEARN AND SHARE)\n8PM QUITE HOURS\n\nSunday\, JUNE 29th\n9AM-12PM TRAINING SESSIONS\n12PM-2PM LUNCH FOR ALL RIDERS & BIKE MAINTENANCE TIME\n​2PM -6PM MINI GAMES AND MOTOS\n7PM DINNER AWARDS BANQUET\n\nMonday\, JUNE 30th\n9AM-6PM OPEN TRACK FOR ALL CAMP RIDERS AND THEIR FAMILIES\nTRACK SCHEDULE FOR OPEN RIDE AND FUN MOTO’S WILL BE POSTED.\n​\nSome of the items you will learn at camp:\nBike Maintenance and  Setup. Body Position\, Suspension setup\, Hole shots\, Starts\, Cornering\, Jumping\, Whoops\, Braking\, Clutching\, Racing Rules\, Riding Ethics and more.
URL:https://md49lionevents.org/event/sutton-racing-lions-secret-ninja-dirtbike-camp/
LOCATION:Valley Rally Raceway\, 12250 N Wright Way\, Sutton\, AK\, United States
END:VEVENT
END:VCALENDAR