BEGIN:VCALENDAR
VERSION:2.0
PRODID:-//Alaska Lions Events - ECPv6.15.20//NONSGML v1.0//EN
CALSCALE:GREGORIAN
METHOD:PUBLISH
X-WR-CALNAME:Alaska Lions Events
X-ORIGINAL-URL:https://md49lionevents.org
X-WR-CALDESC:Events for Alaska Lions Events
REFRESH-INTERVAL;VALUE=DURATION:PT1H
X-Robots-Tag:noindex
X-PUBLISHED-TTL:PT1H
BEGIN:VTIMEZONE
TZID:America/Anchorage
BEGIN:DAYLIGHT
TZOFFSETFROM:-0900
TZOFFSETTO:-0800
TZNAME:AKDT
DTSTART:20240310T110000
END:DAYLIGHT
BEGIN:STANDARD
TZOFFSETFROM:-0800
TZOFFSETTO:-0900
TZNAME:AKST
DTSTART:20241103T100000
END:STANDARD
BEGIN:DAYLIGHT
TZOFFSETFROM:-0900
TZOFFSETTO:-0800
TZNAME:AKDT
DTSTART:20250309T110000
END:DAYLIGHT
BEGIN:STANDARD
TZOFFSETFROM:-0800
TZOFFSETTO:-0900
TZNAME:AKST
DTSTART:20251102T100000
END:STANDARD
BEGIN:DAYLIGHT
TZOFFSETFROM:-0900
TZOFFSETTO:-0800
TZNAME:AKDT
DTSTART:20260308T110000
END:DAYLIGHT
BEGIN:STANDARD
TZOFFSETFROM:-0800
TZOFFSETTO:-0900
TZNAME:AKST
DTSTART:20261101T100000
END:STANDARD
END:VTIMEZONE
BEGIN:VEVENT
DTSTART;TZID=America/Anchorage:20250712T120000
DTEND;TZID=America/Anchorage:20250712T160000
DTSTAMP:20260419T210032
CREATED:20250703T064413Z
LAST-MODIFIED:20250704T011036Z
UID:1543-1752321600-1752336000@md49lionevents.org
SUMMARY:Fairbanks Offroad Lions Official Park Opening
DESCRIPTION:          \n\nThe Fairbanks Offroad Lions are hosting an event on July 12\, 2025\, for a “Soft Opening” of the Fairbanks Offroad Lions Offroad Park.\nThey will be grilling yummies from noon to one.\nPlease contact Lion Cory Bellows at (907) 378-8240 for more information.
URL:https://md49lionevents.org/event/offroad-lions-official-offroad-park-opening/
LOCATION:Tanana Lakes Recreation Area\, 1560 Saddle Ave\, Fairbanks\, AK\, 99701\, United States
END:VEVENT
BEGIN:VEVENT
DTSTART;TZID=America/Anchorage:20250712T090000
DTEND;TZID=America/Anchorage:20250712T130000
DTSTAMP:20260419T210032
CREATED:20250615T202755Z
LAST-MODIFIED:20250615T202755Z
UID:1494-1752310800-1752325200@md49lionevents.org
SUMMARY:Eyeglass Recycling Day
DESCRIPTION:We have an open station waiting for you. Enjoy the fun and serve our cause. 
URL:https://md49lionevents.org/event/eyeglass-recycling-day-4/
LOCATION:Aurora Borealis Lions Eyeglass Recycling Center\, 2925 Newby Rd\, North Pole\, AK\, United States
END:VEVENT
BEGIN:VEVENT
DTSTART;TZID=America/Anchorage:20250712T080000
DTEND;TZID=America/Anchorage:20250712T170000
DTSTAMP:20260419T210032
CREATED:20250303T185502Z
LAST-MODIFIED:20250408T214951Z
UID:545-1752307200-1752339600@md49lionevents.org
SUMMARY:Bear Paw Festival Parade
DESCRIPTION:Our Lions of District 49A will be marching in the parade with the district vision trailer.\n  \n \n  \n  \n  \n 
URL:https://md49lionevents.org/event/bear-paw-festival-parade/
END:VEVENT
BEGIN:VEVENT
DTSTART;TZID=America/Anchorage:20250709T180000
DTEND;TZID=America/Anchorage:20250709T210000
DTSTAMP:20260419T210032
CREATED:20250303T184040Z
LAST-MODIFIED:20250408T221052Z
UID:541-1752084000-1752094800@md49lionevents.org
SUMMARY:Palmer Lions Kids Day
DESCRIPTION:Palmer Lions will be offering free Visionscreening at the game- out of the District Vision Trailer. Game is Miners vs Pilots
URL:https://md49lionevents.org/event/palmer-lions-kids-day/
LOCATION:Hermon Brothers Field\, Alaska Fairgrounds\, Palmer\, AK\, United States
END:VEVENT
BEGIN:VEVENT
DTSTART;TZID=America/Anchorage:20250704T110000
DTEND;TZID=America/Anchorage:20250704T160000
DTSTAMP:20260419T210032
CREATED:20250303T052201Z
LAST-MODIFIED:20250408T221853Z
UID:519-1751626800-1751644800@md49lionevents.org
SUMMARY:Willow Lions Parade and BBQ
DESCRIPTION:The Willow Area Community Organization (WACO) in Willow\, Alaska hosts a 4th of July parade and picnic.\nStaging for the parade is at the Baptist Church at 11AM. The parade starts at noon and is followed by a picnic at the Willow Community Center.
URL:https://md49lionevents.org/event/willow-lions-parade-and-bbq/
LOCATION:Willow Community Center\, MP 69.5 Parks Highway\, Willow\, AK\, 99688\, United States
END:VEVENT
BEGIN:VEVENT
DTSTART;TZID=America/Anchorage:20250704T083000
DTEND;TZID=America/Anchorage:20250704T130000
DTSTAMP:20260419T210032
CREATED:20250303T050838Z
LAST-MODIFIED:20250303T050838Z
UID:512-1751617800-1751634000@md49lionevents.org
SUMMARY:Downtown Anchorage Veterans Parade
DESCRIPTION:The Veterans 4th of July Parade Council\, Inc. invites you to participate in the Veterans 4th of July Parade\, a Proud Tradition established by Anchorage Veterans in 1927. The parade is a family-oriented event taking place in downtown Anchorage to celebrate the Birth of our Nation and to Honor Her Military and their Families. The Parade is a great opportunity for your organization to show your support for our Country\, our State and to thank our Military and their Families for their Service and their Sacrifices. \nThe parade will start at 11:00am on July 4th.  Staging will begin at 8:30am – 9:15am and the judging will begin at 9:30am – 10:15am.  Awards will be presented at 10:30am.\n \nThe District 49A Lions Vision Trailer will be in the parade.
URL:https://md49lionevents.org/event/downtown-anchorage-veterans-parade/
LOCATION:Downtown Anchorage\, Delaney Park Strip\, Anchorage\, AK\, United States
END:VEVENT
BEGIN:VEVENT
DTSTART;VALUE=DATE:20250704
DTEND;VALUE=DATE:20250705
DTSTAMP:20260419T210032
CREATED:20250303T182549Z
LAST-MODIFIED:20250408T224856Z
UID:530-1751587200-1751673599@md49lionevents.org
SUMMARY:Houston Water Works Festival
DESCRIPTION:Alaska’s largest squirt gun scuffle\, Houston Fire Department encourages youths (and the young at heart) to enjoy their Independence Day in a safe and engaging environment. Save the fireworks for the professionals\, and stay cool in the sun. There will be fire truck demonstrations\, water slides\, a snack and drinks bar for the kids.
URL:https://md49lionevents.org/event/houston-water-works-festival/
LOCATION:Houston Fire Department\, 57.4 Parks Hwy\, Houston\, AK\, United States
END:VEVENT
BEGIN:VEVENT
DTSTART;TZID=America/Anchorage:20250703T180000
DTEND;TZID=America/Anchorage:20250703T233000
DTSTAMP:20260419T210032
CREATED:20250303T045640Z
LAST-MODIFIED:20250408T225551Z
UID:509-1751565600-1751585400@md49lionevents.org
SUMMARY:Annual “Uncle Sam” Sheldon Memorial 3rd of July Fireworks Extravaganza
DESCRIPTION:  \nThe Eagle River Lions club host their annual July 3rd Independent Day celebration for the community.  Come out and enjoy music\, vendors\, beer garden\, kids activities and a fantastic firework display.  The SLML host the face and hair painting booth and provide free vision screening in the vision trailer and help ER Lions where needed.
URL:https://md49lionevents.org/event/annual-uncle-sam-sheldon-memorial-3rd-of-july-fireworks-extravaganza/
LOCATION:Eagle River Lions Park\, 18344 Eagle River Rd\, Eagle River\, AK\, 99577\, United States
END:VEVENT
BEGIN:VEVENT
DTSTART;TZID=America/Anchorage:20250627T080000
DTEND;TZID=America/Anchorage:20250630T170000
DTSTAMP:20260419T210032
CREATED:20250303T003749Z
LAST-MODIFIED:20250409T005442Z
UID:471-1751011200-1751302800@md49lionevents.org
SUMMARY:Sutton Racing Lions Secret Ninja Dirtbike Camp
DESCRIPTION:  \n  \n2025 Super Ninja Dirt Bike Camp is officially full!! \n\nTentative schedule for\n 2025 dirt bike camp \nFriday\, June 27th \n5 pm gates open for check-in and parking/pit set-up\nParking is assigned (Arrive together to pit together!)\n7pm RIDERS MEETING- BIKE AND GEAR CHECKS -TRACK WALK​-PIZZA\n​\nSaturday\, June 28th\n9AM-1PM TRAINING\n1PM-3PM LUNCH PROVIDED FOR ALL RIDERS\nBIKE MAINTENANCE TIME\n3PM-6:00 PM TRAINING\n6-8PM OPTIONAL BIKE MAINTENANCE AND TIPS\nSESSION (PARENTS BE SURE TO JOIN\nLEARN AND SHARE)\n8PM QUITE HOURS\n\nSunday\, JUNE 29th\n9AM-12PM TRAINING SESSIONS\n12PM-2PM LUNCH FOR ALL RIDERS & BIKE MAINTENANCE TIME\n​2PM -6PM MINI GAMES AND MOTOS\n7PM DINNER AWARDS BANQUET\n\nMonday\, JUNE 30th\n9AM-6PM OPEN TRACK FOR ALL CAMP RIDERS AND THEIR FAMILIES\nTRACK SCHEDULE FOR OPEN RIDE AND FUN MOTO’S WILL BE POSTED.\n​\nSome of the items you will learn at camp:\nBike Maintenance and  Setup. Body Position\, Suspension setup\, Hole shots\, Starts\, Cornering\, Jumping\, Whoops\, Braking\, Clutching\, Racing Rules\, Riding Ethics and more.
URL:https://md49lionevents.org/event/sutton-racing-lions-secret-ninja-dirtbike-camp/
LOCATION:Valley Rally Raceway\, 12250 N Wright Way\, Sutton\, AK\, United States
END:VEVENT
BEGIN:VEVENT
DTSTART;TZID=America/Anchorage:20250623T173000
DTEND;TZID=America/Anchorage:20250623T203000
DTSTAMP:20260419T210032
CREATED:20250501T155623Z
LAST-MODIFIED:20250503T203939Z
UID:1374-1750699800-1750710600@md49lionevents.org
SUMMARY:Lions Day at the Ball Park
DESCRIPTION:   Lions Day at the Ball Park will at the Lee Jordan Field in the Loretta French Sports Complex\, Chugiak\nCome to see the Chugiak-Eagle River Chinooks vs the Anchorage Glacier Pilots game.\n   The Eagle River Sleeping Lady Mtn Lions will be offering free Visionscreening out of the Lions vision trailer.\n         Free ice cream to everyone screened.
URL:https://md49lionevents.org/event/lions-day-at-the-ball-park/
LOCATION:Loretta French Sports Complex\, 18100 Old Glenn Hwy\, Chugiak\, AK\, 99567\, United States
END:VEVENT
BEGIN:VEVENT
DTSTART;TZID=America/Anchorage:20250621T090000
DTEND;TZID=America/Anchorage:20250621T130000
DTSTAMP:20260419T210032
CREATED:20250615T202523Z
LAST-MODIFIED:20250615T202523Z
UID:1489-1750496400-1750510800@md49lionevents.org
SUMMARY:Eyeglass Recycling Day
DESCRIPTION:We have an open station waiting for you. Enjoy the fun and serve our cause. 
URL:https://md49lionevents.org/event/eyeglass-recycling-day-3/
LOCATION:Aurora Borealis Lions Eyeglass Recycling Center\, 2925 Newby Rd\, North Pole\, AK\, United States
END:VEVENT
BEGIN:VEVENT
DTSTART;VALUE=DATE:20250621
DTEND;VALUE=DATE:20250625
DTSTAMP:20260419T210032
CREATED:20250411T032545Z
LAST-MODIFIED:20250411T070441Z
UID:1284-1750464000-1750809599@md49lionevents.org
SUMMARY:Midnight Sun Matchup
DESCRIPTION:MIDNIGHT SUN MATCHUP\nOpening Night June 21 @ Growden Stadium\n1200 Patriotic Music\n1300 Opening Ceremony\nThank You to Sponsors\nLions District 49B Governor\nLegion Post 57 CC\nRuss Baker\, Alaska ALB Operations\, Legion Baseball History\nFairbanks City Mayor Pruhs\, Proclamation\nFairbanks-North Star Borough\, Mayor Hopkins\, Remarks\nCongressman Begich\, Remarks\nSenator Sullivan\, Remarks\nCeremonial First Pitches\nIntroduction of all Teams\n  \n  \n \nThe Tournament will  be played at Arco and Marlin Fields with Championship Games at Growden Park.\n\n  \n 
URL:https://md49lionevents.org/event/midnight-sun-matchup/
LOCATION:Growden Park\, 207 Wilbur St\, Fairbanks\, AK\, 99701\, United States
END:VEVENT
BEGIN:VEVENT
DTSTART;TZID=America/Anchorage:20250618T160000
DTEND;TZID=America/Anchorage:20250618T160000
DTSTAMP:20260419T210032
CREATED:20250412T171732Z
LAST-MODIFIED:20250412T171825Z
UID:1333-1750262400-1750262400@md49lionevents.org
SUMMARY:Legion All-Stars Exhibition Game vs Goldpanners
DESCRIPTION:All Star players selected from College Coaches Clinic play an exhibition game versus the Alaska Goldpanners
URL:https://md49lionevents.org/event/legion-all-stars-exhibition-game-vs-goldpanners-2/
LOCATION:Growden Memorial Stadium\, 207 Wilbur St\, Fairbanks\, AK\, United States
END:VEVENT
BEGIN:VEVENT
DTSTART;TZID=America/Anchorage:20250617T100000
DTEND;TZID=America/Anchorage:20250618T140000
DTSTAMP:20260419T210032
CREATED:20250412T063838Z
LAST-MODIFIED:20250412T063838Z
UID:1312-1750154400-1750255200@md49lionevents.org
SUMMARY:College Coaches Clinic Sponsored by the Interior Baseball Lions
DESCRIPTION:College Coaches Clinic\n\nHosted by Alaska Wild College Coaches from the Goldpanners Staff.\nLearn from college coaches (Goldpanner Staff) at the College Coaches Clinic.\nIt’s a game-changer for your player!\nJoin us at Arco Field for a day filled with insights strategies and tips from experienced college coaches.This event is perfect for anyone looking to elevate their game. Get ready to learn from the best in the business and take your skills to the next level.\nDon’t miss out on this opportunity to interact with the Goldpanner Coaching Staff and enhance your understanding of the game.\nMark your calendars and get ready for an unforgettable experience at the College Coaches Clinic! Cost- $100 per Player
URL:https://md49lionevents.org/event/college-coaches-clinic-sponsored-by-the-interior-baseball-lions/
LOCATION:Arco Field\, 1960 2nd Ave\, Fairbanks\, AK\, United States
END:VEVENT
BEGIN:VEVENT
DTSTART;TZID=America/Anchorage:20250614T120000
DTEND;TZID=America/Anchorage:20250614T150000
DTSTAMP:20260419T210032
CREATED:20250515T171553Z
LAST-MODIFIED:20250608T191533Z
UID:1425-1749902400-1749913200@md49lionevents.org
SUMMARY:Refugee Health Fair
DESCRIPTION:Refugee Assistance & Immigration Services (RAIS) provides a bridge for refugees (individuals who have had to flee their countries of origin due to the tragedies of persecution and war) and other new arrivals from their former life experiences to the new skills required for success in the United States. Through a focus on economic self-sufficiency\, community integration\, and a respect for unique cultures\, history and traditions\, RAIS creates an environment of compassion and encouragement for refugees to flourish. \nThe Lions Vision Team has been asked to do Free Visionscreening and Distance Acuity Testing. \nThe Refugee Assistance & Immigration Center is located behind St Anthony’s Catholic Church. \n \n 
URL:https://md49lionevents.org/event/refugee-health-fair/
LOCATION:RAIS Welcome Center\, 4135 San Roberto Ave\, Anchorage\, AK\, 99508\, United States
END:VEVENT
BEGIN:VEVENT
DTSTART;TZID=America/Anchorage:20250614T090000
DTEND;TZID=America/Anchorage:20250614T170000
DTSTAMP:20260419T210032
CREATED:20250303T002607Z
LAST-MODIFIED:20250506T231715Z
UID:465-1749891600-1749920400@md49lionevents.org
SUMMARY:Big Lake Lions 38th Annual Mud Volleyball Tournament
DESCRIPTION:A one-day special event tournament for ages 18 and up\nTeams will be guaranteed 2 games * double elimination\nIMPORTANT DATES\nREGISTRATION RECEIVED BY MIDNIGHT\, WEDNESDAY\, JUNE 11\, 2025\nTEAM NAMES TO BE DRAWN FOR GAME GRID THURSDAY\, JUNE 12\, 2025\nTOURNAMENT – SATURDAY\, JUNE 14\, 2025CHECK IN AT 9AM – FIRST GAMES AT 10AM\nTo register a team email your team name to: biglakemudvolleyball@gmail.com\nFEES$350 per team if received by Wednesday\, May 28\, 2025$400 per team if received after Wednesday\, May 28\, 2025\nLOCATION OF GAMES2942 S. LIONS CIR * BIG LAKE\, ALASKA * 99652BACK SIDE OF BIG LAKE SAND PITS * FOLLOW THE SIGNS (SAME LOCATION AS 2024)\nCONTACT INFORMATION: Jaime Estes – biglakemudvolleyball@gmail.comPO Box 520048Big Lake\, Alaska 99652\n\nPayment Information:\ninvoice will be issued for payment with debit/credit cards\nor other options will be discussed at time of sign up\n    \n 
URL:https://md49lionevents.org/event/big-lake-lions-38th-annual-mud-volleyball-tournament/
LOCATION:Big Lake Lions Rec\, 3261 S Big Lake Rd\, Wasilla\, AK\, 99623-9663\, United States
END:VEVENT
BEGIN:VEVENT
DTSTART;TZID=America/Anchorage:20250614T090000
DTEND;TZID=America/Anchorage:20250614T130000
DTSTAMP:20260419T210032
CREATED:20250615T003401Z
LAST-MODIFIED:20250615T202112Z
UID:1481-1749891600-1749906000@md49lionevents.org
SUMMARY:Eyeglass Recycling Day
DESCRIPTION:We have an open station waiting for you. Enjoy the fun and serve our cause. 
URL:https://md49lionevents.org/event/__trashed-2/
LOCATION:Aurora Borealis Lions Eyeglass Recycling Center\, 2925 Newby Rd\, North Pole\, AK\, United States
END:VEVENT
BEGIN:VEVENT
DTSTART;TZID=America/Anchorage:20250614T080000
DTEND;TZID=America/Anchorage:20250614T170000
DTSTAMP:20260419T210032
CREATED:20250409T055818Z
LAST-MODIFIED:20250409T162803Z
UID:1251-1749888000-1749920400@md49lionevents.org
SUMMARY:Pitch Hit & Run
DESCRIPTION:Pitch Hit & Run™ is the official skills competition of Major League Baseball.® This grassroots program is designed to provide youngsters with an opportunity to compete\, free of charge\, in a competition that recognizes individual excellence in core baseball/softball skills.\nBoys and girls are divided into four age divisions: 7/8\, 9/10\, 11/12\, 13/14\, and have the chance to advance through three levels of competition\, including Team Championships and the Finals during the World Series™.\nAll participants should register online at PitchHitRun.com and plan to bring age verification (copy/picture of birth certificate or similar) to the competition.\nFor questions concerning the competition\, please contact Benton Bay Athletic Lions Club.
URL:https://md49lionevents.org/event/pitch-hit-run/
LOCATION:Loretta French Sports Complex\, 18100 Old Glenn Hwy\, Chugiak\, AK\, 99567\, United States
END:VEVENT
BEGIN:VEVENT
DTSTART;TZID=America/Anchorage:20250607T120000
DTEND;TZID=America/Anchorage:20250607T160000
DTSTAMP:20260419T210032
CREATED:20250307T020715Z
LAST-MODIFIED:20250409T021218Z
UID:729-1749297600-1749312000@md49lionevents.org
SUMMARY:Lions Family Fun Festival
DESCRIPTION:  \nFree Family Event.\nLearn about the Lions Clubs of District 49B.\nActivities\, games\, music\, free balloon art and face painting.
URL:https://md49lionevents.org/event/lions-family-fun-fesrival/
LOCATION:Pioneer Park\, 2300 Airport Way\, Fairbanks\, AK\, 99701\, United States
END:VEVENT
BEGIN:VEVENT
DTSTART;TZID=America/Anchorage:20250607T110000
DTEND;TZID=America/Anchorage:20250607T173000
DTSTAMP:20260419T210032
CREATED:20250303T000721Z
LAST-MODIFIED:20250517T012004Z
UID:452-1749294000-1749317400@md49lionevents.org
SUMMARY:Special O Healthy Athletes Summer Games
DESCRIPTION:  \n   \nThe Lions will be doing free Visionscreening for all of the athletes at Dimond High School.\nLast year’s crew waiting for the athletes to finish their competition.\n  \n 
URL:https://md49lionevents.org/event/special-o-healthy-athletes-summer-games/
LOCATION:Dimond High School\, 2909 W 88th Ave\, Anchorage\, AK\, 99502\, United States
END:VEVENT
BEGIN:VEVENT
DTSTART;TZID=America/Anchorage:20250531T110000
DTEND;TZID=America/Anchorage:20250531T180000
DTSTAMP:20260419T210032
CREATED:20250302T235936Z
LAST-MODIFIED:20250409T013300Z
UID:441-1748689200-1748714400@md49lionevents.org
SUMMARY:Asian & Pacific Islander Culture Flag Day
DESCRIPTION:  \n \nLions will be doing Free Visionscreening in the Vision Trailer for those 6 months and above.
URL:https://md49lionevents.org/event/asian-pacific-islander-culture-flag-day/
LOCATION:Delaney Park Strip\, 9th & 10th and E & I St\, Anchorage\, AK\, United States
END:VEVENT
BEGIN:VEVENT
DTSTART;VALUE=DATE:20250531
DTEND;VALUE=DATE:20250601
DTSTAMP:20260419T210032
CREATED:20250305T173944Z
LAST-MODIFIED:20250409T013352Z
UID:658-1748649600-1748735999@md49lionevents.org
SUMMARY:Crus’in with Santa Car Show and Street Fair
DESCRIPTION:Alaska’s greatest hot rod adventure. \nThe North Pole Lions Cruis’n with Santa Car Show is an annual Signature automotive event organized by the North Pole Lions Club\, aimed at fundraising for ABLERC through a shared love for cars. The event showcases a wide array of vehicles\, from vintage classics and muscle cars to modern sports cars and custom builds. It’s a day where automobile enthusiasts can display their prized possessions\, exchange stories\, and enjoy the festive atmosphere with Santa himself making a special appearance. \nSet in the heart of the North Pole\, at North Pole Hotel parking lot and the Safeway Mall parking lot\, the event transforms a local venue into a car paradise. The parking lot transformeds into a gleaming  array of vehicles and the throngs of visitors that come from all over the area to admire them. \nThe North Pole Lions Cruis’n with Santa Car Show is more than just a display of automotive beauty and engineering; it’s a charitable event with a heart. The primary goal is to raise funds for the local ABLERC supported by the North Pole Lions Club. Attendees are encouraged to donate\, participate in raffles\, and engage in various activities\, with all proceeds going towards making a difference in the local community. This event embodies the Lions Club’s commitment to service and community support\, making it a cherished part of our heart. \n   \nThe car show also serves as a fantastic way for families and individuals to get out into the community to support a worthy cause while hearing the roar of engines and the seeing the shine of the chrome. With festive music\, and a variety of food and drink vendors\, it’s a celebration that brings the community together. The appearance of Santa Claus and Leo the Lion\, it adds a touch of magic\, making it a perfect outing for the young and the young at heart. \nThe North Pole Lions Cruis’n with Santa Car Show is an invitation to embrace the holiday season in a unique and joyful way. It offers something for everyone—car lovers get to showcase and admire a diverse range of vehicles\, families can enjoy a day out filled with festive cheer\, and the community benefits from the generous spirit of the event. Mark your calendars\, and don’t miss the chance to be part of this wonderful tradition that combines the thrill of automobiles with the joy of the holiday season
URL:https://md49lionevents.org/event/crusin-with-santa/
LOCATION:Hotel North Pole\, 449 North Santa. Laus Lane\, North Pole\, AK\, 99705\, United States
END:VEVENT
BEGIN:VEVENT
DTSTART;TZID=America/Anchorage:20250524T100000
DTEND;TZID=America/Anchorage:20250524T140000
DTSTAMP:20260419T210032
CREATED:20250314T173118Z
LAST-MODIFIED:20260221T063300Z
UID:852-1748080800-1748095200@md49lionevents.org
SUMMARY:Mt View Spring Recycling Drive
DESCRIPTION:
URL:https://md49lionevents.org/event/mt-view-spring-recycling-drive/
LOCATION:Mt View Lions Park\, 502 N Pine St\, Anchorage\, AK\, 99508\, United States
END:VEVENT
BEGIN:VEVENT
DTSTART;VALUE=DATE:20250522
DTEND;VALUE=DATE:20250527
DTSTAMP:20260419T210032
CREATED:20250407T173417Z
LAST-MODIFIED:20250407T195751Z
UID:973-1747872000-1748303999@md49lionevents.org
SUMMARY:Kodiak Annual Crab Fest “It’s Otter Chaos”
DESCRIPTION:Crab Fest began in 1958 and is a time for the community to celebrate the abundant resources that we receive from the sea. The festival is traditionally held for 5 days over Memorial Day weekend. \n\n\n\n\n\n\n\n\n\n\n\n\n\n\nKodiak Crab Festival 2025 has been scheduled for May 22-May 26\, 2025. There will be various events surrounding the festival. An official schedule of events will be posted as the date gets closer. The Kodiak Crab Festival Grand Parade takes place on Saturday\, May 24th beginning at 10 AM and runs along Mill Bay Road between Powell and Bartel Street. \nActivities:\nTraditional and quirky tournaments\, games\, races and competitions. The Norm Holm Survival Suit Race. Coast Guard demonstrations in the harbor including helicopters and rescue swimmers. Crab Festival Art Show. Kodiak Fish Toss\, Marathon and Half Marathon\, Blessing of the Fleet\, Crab Festival Grand Parade on Saturday morning. \nTravel Options:\nTraveling on Alaska Airlines to Kodiak for Crab Fest? Be sure to use Discount Code: ECMO162 for a 10% Discount to Kodiak\, Alaska from any Alaska Airlines/Horizon Air US city excluding Prudhoe Bay\, Hawaii\, Mexico\, or Central America. \n\n\n\nBeginning Travel Date: May 19\, 2025 and Last Travel Date: May 29\, 2025 \n\n\n\n\n\n\n\n\n\n\n\n\n\n\n\n\n\n\n\n\n\n\n\n\n\n\n\n\nHOURS OF OPERATION\n\n\n\n\nThursday\, May 22nd – Noon to 8 PM*\nFriday\, May 23rd – 10 AM to 8 PM*\nSaturday\, May 24th – 11 AM to 8 PM*\nSunday\, May 25th – 10 AM to 8 PM*\nMonday\, May 26th – 10 AM to 5 PM* \n*Dates and Hours are subject to change.
URL:https://md49lionevents.org/event/kodiak-annual-crab-fest-its-otter-chaos/
LOCATION:Kodiak\, AK\, Kodiak\, AK\, United States
END:VEVENT
BEGIN:VEVENT
DTSTART;TZID=America/Anchorage:20250517T120000
DTEND;TZID=America/Anchorage:20250517T150000
DTSTAMP:20260419T210032
CREATED:20250306T234452Z
LAST-MODIFIED:20250518T002047Z
UID:713-1747483200-1747494000@md49lionevents.org
SUMMARY:Anchorage Fire Dept Open House
DESCRIPTION:The Lion’s have been invited to participate in the AFD  Training Center Open House. The Lion’s will be doing FREE Visionscreening inside our vision trailer. The annual open house highlights the role of Anchorage Fire Department in the community.\nAnchorage Fire Fighters Local 1264 and the Anchorage Fire Department will hold its annual Open House this on May 17th from Noon  to 3 PM. Open House will be held at the AFD Regional Fire Training Center\, 1140 Airport Heights Drive. Free public parking is available behind Alaska Regional Hospital\, adjacent to the southeast end of Merrill Field.\nEvents will include AFD static equipment displays and demonstrations\, junior firefighter activities for the kids\, home exit drills\, and free lunch. The Elliott Taylor Memorial Blood Drive and Safe Kids Alaska infant and child car seat inspections will run throughout the event.
URL:https://md49lionevents.org/event/__trashed/
LOCATION:AFD Training Center\, 1140 Airport Heights Dr\, Anchorage\, AK\, 99508\, United States
END:VEVENT
BEGIN:VEVENT
DTSTART;TZID=America/Anchorage:20250517T090000
DTEND;TZID=America/Anchorage:20250517T130000
DTSTAMP:20260419T210032
CREATED:20250503T191229Z
LAST-MODIFIED:20250503T191229Z
UID:1403-1747472400-1747486800@md49lionevents.org
SUMMARY:Eyeglass Recycling Day
DESCRIPTION:Come on in and help us with our cause.\nThere is a station ready for you.
URL:https://md49lionevents.org/event/eyeglass-recycling-day-2/
LOCATION:Aurora Borealis Lions Eyeglass Recycling Center\, 2925 Newby Rd\, North Pole\, AK\, United States
END:VEVENT
BEGIN:VEVENT
DTSTART;TZID=America/Anchorage:20250511T100000
DTEND;TZID=America/Anchorage:20250511T140000
DTSTAMP:20260419T210032
CREATED:20250307T020021Z
LAST-MODIFIED:20250409T014518Z
UID:725-1746957600-1746972000@md49lionevents.org
SUMMARY:Mother’s Day Pancake Breakfast
DESCRIPTION:Mother’s Day Pancake Breakfast\n \n$10 Adults$5 Children 12 & underIncludes-Pancakes\, Sausage\, Juice or Milk\, Coffee.To go orders also available. Open to the public.
URL:https://md49lionevents.org/event/mothers-day-pancake-breakfast/
LOCATION:Davis Hall at Tanana Valley Fairgrounds\, 1800 College Rd\, Fairbanks\, AK\, 99709\, United States
END:VEVENT
BEGIN:VEVENT
DTSTART;TZID=America/Anchorage:20250510T090000
DTEND;TZID=America/Anchorage:20250510T130000
DTSTAMP:20260419T210032
CREATED:20250503T190650Z
LAST-MODIFIED:20250503T190741Z
UID:1401-1746867600-1746882000@md49lionevents.org
SUMMARY:Eyeglass Recycling Day
DESCRIPTION:Come on in and help us with our cause.\n\nWe have a station ready for you.
URL:https://md49lionevents.org/event/eyeglass-recycling-day/
LOCATION:Aurora Borealis Lions Eyeglass Recycling Center\, 2925 Newby Rd\, North Pole\, AK\, United States
END:VEVENT
BEGIN:VEVENT
DTSTART;VALUE=DATE:20250504
DTEND;VALUE=DATE:20250511
DTSTAMP:20260419T210032
CREATED:20250506T221152Z
LAST-MODIFIED:20250506T221244Z
UID:1408-1746316800-1746921599@md49lionevents.org
SUMMARY:Big Lake Spring Cleanup
DESCRIPTION:The Lions will be taking care of all of Big Lake’s roads. We ask that you bring the filled bags to Big Lake Rd for pick-up.\nYou can also go online and apply for a clean up in an area that you know needs help. The applicant is then responsible for transferring bags to transfer station but as long as it’s the clean up bags and on the dates you applied for it’s no cost for you.
URL:https://md49lionevents.org/event/big-lake-spring-cleanup/
LOCATION:Big Lake Road\, Big Lake Rd Easement\, Big Lake\, AK\, United States
END:VEVENT
BEGIN:VEVENT
DTSTART;TZID=America/Anchorage:20250430T090000
DTEND;TZID=America/Anchorage:20250430T190000
DTSTAMP:20260419T210032
CREATED:20250305T204226Z
LAST-MODIFIED:20250413T233122Z
UID:674-1746003600-1746039600@md49lionevents.org
SUMMARY:Alaska Literacy Program Health Day
DESCRIPTION:The Lions have been asked to provide free Visionscreening and training at the ALP Health Day. \n\n\nHealth day is focused on providing short health education lessons to our ALP students through our amazing Peer Leader Navigators.\n\nWe have added a component to the day by including a resource room. This is where community partners have an opportunity to share additional information and services. We hope that these tables are as interactive as possible for students.\n\nTime blocks:\n9am-12:30pm\n5pm-7:00pm
URL:https://md49lionevents.org/event/alaska-literacy-program-health-day/
LOCATION:Alaska Literacy Program\, 1345 Rudakof Circle\, Ste 104\, Anchorage\, AK\, United States
END:VEVENT
END:VCALENDAR