BEGIN:VCALENDAR
VERSION:2.0
PRODID:-//Alaska Lions Events - ECPv6.15.20//NONSGML v1.0//EN
CALSCALE:GREGORIAN
METHOD:PUBLISH
X-WR-CALNAME:Alaska Lions Events
X-ORIGINAL-URL:https://md49lionevents.org
X-WR-CALDESC:Events for Alaska Lions Events
REFRESH-INTERVAL;VALUE=DURATION:PT1H
X-Robots-Tag:noindex
X-PUBLISHED-TTL:PT1H
BEGIN:VTIMEZONE
TZID:America/Anchorage
BEGIN:DAYLIGHT
TZOFFSETFROM:-0900
TZOFFSETTO:-0800
TZNAME:AKDT
DTSTART:20240310T110000
END:DAYLIGHT
BEGIN:STANDARD
TZOFFSETFROM:-0800
TZOFFSETTO:-0900
TZNAME:AKST
DTSTART:20241103T100000
END:STANDARD
BEGIN:DAYLIGHT
TZOFFSETFROM:-0900
TZOFFSETTO:-0800
TZNAME:AKDT
DTSTART:20250309T110000
END:DAYLIGHT
BEGIN:STANDARD
TZOFFSETFROM:-0800
TZOFFSETTO:-0900
TZNAME:AKST
DTSTART:20251102T100000
END:STANDARD
BEGIN:DAYLIGHT
TZOFFSETFROM:-0900
TZOFFSETTO:-0800
TZNAME:AKDT
DTSTART:20260308T110000
END:DAYLIGHT
BEGIN:STANDARD
TZOFFSETFROM:-0800
TZOFFSETTO:-0900
TZNAME:AKST
DTSTART:20261101T100000
END:STANDARD
END:VTIMEZONE
BEGIN:VEVENT
DTSTART;TZID=America/Anchorage:20250815T110000
DTEND;TZID=America/Anchorage:20250901T190000
DTSTAMP:20260421T003226
CREATED:20250303T192030Z
LAST-MODIFIED:20250824T233315Z
UID:559-1755255600-1756753200@md49lionevents.org
SUMMARY:Alaska State Fair Visionscreening
DESCRIPTION:District 49 A Lions Clubs will be offering free Visionscreening every day at the fair out of the district vision trailer.
URL:https://md49lionevents.org/event/alaska-state-fair-visionscreening/
LOCATION:Alaska State Fairgrounds\, 2075 Glen Hwy\, Palmer\, AK\, 99645\, United States
END:VEVENT
BEGIN:VEVENT
DTSTART;TZID=America/Anchorage:20250903T174500
DTEND;TZID=America/Anchorage:20250903T194500
DTSTAMP:20260421T003226
CREATED:20250907T190835Z
LAST-MODIFIED:20250917T223435Z
UID:1687-1756921500-1756928700@md49lionevents.org
SUMMARY:Challenge Alaska for Goal Ball
DESCRIPTION:Volunteer with Challenge Alaska for Goal Ball\nGoal Ball allows visually impaired persons to play a ball game similar to a modified soccer game.\nHelp is needed to establish the court before each game by taping it up then disassembling the court after each game.\nActual game time is 6:15PM to 7:30PM\, volunteers are needed from 5:45PM until 7:45PM\, at the Spenard Rec Center.\nPlease consider volunteering each Wednesday from Sep 3 until the last game on October 15th.
URL:https://md49lionevents.org/event/1687/
LOCATION:Spenard Rec Center\, 2020 W 48th Ave\, Anchorage\, 99517\, United States
END:VEVENT
BEGIN:VEVENT
DTSTART;TZID=America/Anchorage:20250906T130000
DTEND;TZID=America/Anchorage:20250906T170000
DTSTAMP:20260421T003226
CREATED:20250307T194451Z
LAST-MODIFIED:20250904T215504Z
UID:795-1757163600-1757178000@md49lionevents.org
SUMMARY:Kenai Lions 30th Annual Rubber Ducky Race
DESCRIPTION:Annual Rubber Ducky Races\nSince 1995 the Kenai Lions Club has been able to use money raised from this event to fund programs that benefit our beautiful city year-round.
URL:https://md49lionevents.org/event/kenai-lions-30th-annual-rubber-ducky-race/
LOCATION:Cunningham Park\, 2432 Beaver Loop Rd\, Kenai\, AK\, 99611\, United States
END:VEVENT
BEGIN:VEVENT
DTSTART;TZID=America/Anchorage:20250910T174500
DTEND;TZID=America/Anchorage:20250910T194500
DTSTAMP:20260421T003226
CREATED:20250906T202609Z
LAST-MODIFIED:20250917T223633Z
UID:1648-1757526300-1757533500@md49lionevents.org
SUMMARY:Challenge Alaska for Goal Ball
DESCRIPTION:Volunteer with Challenge Alaska for Goal Ball\nGoal Ball allows visually impaired persons to play a ball game similar to a modified soccer game.\nHelp is needed to establish the court before each game by taping it up then disassembling the court after each game.\nActual game time is 6:15PM to 7:30PM\, volunteers are needed from 5:45PM until 7:45PM\, at the Spenard Rec Center.\nPlease consider volunteering each Wednesday from Sep 3 until the last game on October 15th.
URL:https://md49lionevents.org/event/challenge-alaska-for-goal-ball/
LOCATION:Spenard Rec Center\, 2020 W 48th Ave\, Anchorage\, 99517\, United States
END:VEVENT
BEGIN:VEVENT
DTSTART;TZID=America/Anchorage:20250912T170000
DTEND;TZID=America/Anchorage:20250912T190000
DTSTAMP:20260421T003226
CREATED:20250906T205927Z
LAST-MODIFIED:20260221T065809Z
UID:1656-1757696400-1757703600@md49lionevents.org
SUMMARY:Willow Lions Skate Night
DESCRIPTION:Willow Lions Skate Night\nCome and join us at our Skate Night starting Sep 12\, once a month\, Sept- April (except Dec)\n2025- \n\nSeptember 12th\,  October 17th\,  November 21st\n2026-\nJan 16th\,  Feb. 20th\,  March 20th and April 17th.\n 
URL:https://md49lionevents.org/event/willow-weekly-skate-night/
LOCATION:Willow Elementary School\, 31706 Parks Hwy\, Willow\, AK\, 99688\, United States
END:VEVENT
BEGIN:VEVENT
DTSTART;TZID=America/Anchorage:20250913T130000
DTEND;TZID=America/Anchorage:20250913T180000
DTSTAMP:20260421T003226
CREATED:20250723T033917Z
LAST-MODIFIED:20250723T035608Z
UID:1600-1757768400-1757786400@md49lionevents.org
SUMMARY:3rd Annual Pacific Community Health Fair
DESCRIPTION:The Lions District 49A Vision Team will be offering FREE Visionscreening in our Vision Trailer. Watch for our happy Lion.\n 
URL:https://md49lionevents.org/event/3rd-annual-pacific-community-health-fair/
LOCATION:Mountain View Community Center\, 315 Price St\, Anchorage\, 99501\, United States
END:VEVENT
BEGIN:VEVENT
DTSTART;TZID=America/Anchorage:20250917T174500
DTEND;TZID=America/Anchorage:20250917T194500
DTSTAMP:20260421T003226
CREATED:20250907T191531Z
LAST-MODIFIED:20250917T223347Z
UID:1691-1758131100-1758138300@md49lionevents.org
SUMMARY:Challenge Alaska for Goal Ball
DESCRIPTION:Volunteer with Challenge Alaska for Goal Ball\nGoal Ball allows visually impaired persons to play a ball game similar to a modified soccer game.\nHelp is needed to establish the court before each game by taping it up then disassembling the court after each game.\nActual game time is 6:15PM to 7:30PM\, volunteers are needed from 5:45PM until 7:45PM\, at the Spenard Rec Center.\nPlease consider volunteering each Wednesday from Sep 3 until the last game on October 15th.\n.
URL:https://md49lionevents.org/event/challenge-alaska-for-goal-ball-2/
LOCATION:Spenard Rec Center\, 2020 W 48th Ave\, Anchorage\, 99517\, United States
END:VEVENT
BEGIN:VEVENT
DTSTART;VALUE=DATE:20250918
DTEND;VALUE=DATE:20250921
DTSTAMP:20260421T003226
CREATED:20250303T194022Z
LAST-MODIFIED:20250408T200853Z
UID:566-1758153600-1758412799@md49lionevents.org
SUMMARY:USA/Canada Lions Leadership Forum
DESCRIPTION:  \n \nThe largest and best Lions Club Leadership training event in the world.  With over 70 seminar training sessions related to developing quality Lions Clubs and thousands of Lions Leaders share their experiences\, the USA/Canada Lions Leadership Forum is for you! \nThis years theme-  Learn\, Grow\, Lead. \n 
URL:https://md49lionevents.org/event/usa-canada-lions-leadership-forum/
LOCATION:Waterfront Convention Center\, 777 Harrah’s Blvd\, Memphis\, TN\, United States
END:VEVENT
BEGIN:VEVENT
DTSTART;TZID=America/Anchorage:20250923T100000
DTEND;TZID=America/Anchorage:20250923T160000
DTSTAMP:20260421T003226
CREATED:20250710T011119Z
LAST-MODIFIED:20250710T011119Z
UID:1575-1758621600-1758643200@md49lionevents.org
SUMMARY:Project Homeless Connect 2025
DESCRIPTION:This community-wide\, one-day\, one-stop resource fair for individuals experiencing homelessness in Anchorage will take place on Sept. 23\, 2025\, at the Egan Civic & Convention Center\, 555 W. Fifth Ave. Our unhoused neighbors will get help with essential services such as housing\, healthcare\, employment support\, legal aid and more. Attendees will also receive lunch\, supplies\, and winter gear. Volunteers needed on Sept. 23 and the day before for set-up.\nThe Lions Vision Team of District 49A will be there to do preliminary eye exams and give out glasses to this in need.
URL:https://md49lionevents.org/event/project-homeless-connect-2025/
LOCATION:William A. Egan Civic & Convention Center\, 555 W 5th Ave\, Anchorage\, AK\, 99501\, United States
END:VEVENT
BEGIN:VEVENT
DTSTART;VALUE=DATE:20250921
DTEND;VALUE=DATE:20250922
DTSTAMP:20260421T003226
CREATED:20250907T174555Z
LAST-MODIFIED:20250907T175825Z
UID:1675-1758412800-1758499199@md49lionevents.org
SUMMARY:Anchorage Alaska Sports Car Club Presents Fall Drift
DESCRIPTION:Come and join the Alaska Sports Car Club https://ascc907.square.site/ for our season closing drift event at Alaska Raceway Park. Our final event on asphalt for the remainder of 2025. Come and slide your way into the winter.\nONLINE REGISTRATION ONLY & WILL CLOSE ON WEDNESDAY 9/18/2025.\nhttps://www.motorsportreg.com/…/2025-arp-drift-2-alaska…\n– Drifting at Alaska Raceway Park to close the summer season. We will be creating a drift course on in the facility parking areas.\nPARTICIPATION NEEDS\n– Current Alaska Sports Car Club Member. $100 for a calendar year. – Pay the Event Fee of $75. – Sign the Waiver. Whether you are driving or not\, the waiver needs to be signed. – Pass a standard AutoCross style tech inspection. – Snell 2015 Helmet or newer\nSCHEDULE:\n08:00 AM – Driver Check-Ins & Tech Inspections09:30 AM – Driver’s Meeting10:00 AM – Course Walkabout\, Driver’s & Workers to Grid10:30 AM – Cars on Course for Practice Session12:00 PM – Qualifying for Drift Competition01:00 PM – Lunch01:30 PM – Drift Competition03:30 PM – Moar Drifting & Practice Drifting05:30 PM – End Session & Course Cleanup06:30 PM – Drift Competition Awards\nIf you come out and play\, please expect to help clean up the course.\nOtherwise\, bring lots of tires and dress warm!
URL:https://md49lionevents.org/event/alaska-sports-car-club-presents-fall-drift/
LOCATION:Alaska Raceway Park\, 5599 S Raceway\, Palmer\, AK\, 99645\, United States
END:VEVENT
END:VCALENDAR