BEGIN:VCALENDAR
VERSION:2.0
PRODID:-//Alaska Lions Events - ECPv6.15.20//NONSGML v1.0//EN
CALSCALE:GREGORIAN
METHOD:PUBLISH
X-WR-CALNAME:Alaska Lions Events
X-ORIGINAL-URL:https://md49lionevents.org
X-WR-CALDESC:Events for Alaska Lions Events
REFRESH-INTERVAL;VALUE=DURATION:PT1H
X-Robots-Tag:noindex
X-PUBLISHED-TTL:PT1H
BEGIN:VTIMEZONE
TZID:America/Anchorage
BEGIN:DAYLIGHT
TZOFFSETFROM:-0900
TZOFFSETTO:-0800
TZNAME:AKDT
DTSTART:20240310T110000
END:DAYLIGHT
BEGIN:STANDARD
TZOFFSETFROM:-0800
TZOFFSETTO:-0900
TZNAME:AKST
DTSTART:20241103T100000
END:STANDARD
BEGIN:DAYLIGHT
TZOFFSETFROM:-0900
TZOFFSETTO:-0800
TZNAME:AKDT
DTSTART:20250309T110000
END:DAYLIGHT
BEGIN:STANDARD
TZOFFSETFROM:-0800
TZOFFSETTO:-0900
TZNAME:AKST
DTSTART:20251102T100000
END:STANDARD
BEGIN:DAYLIGHT
TZOFFSETFROM:-0900
TZOFFSETTO:-0800
TZNAME:AKDT
DTSTART:20260308T110000
END:DAYLIGHT
BEGIN:STANDARD
TZOFFSETFROM:-0800
TZOFFSETTO:-0900
TZNAME:AKST
DTSTART:20261101T100000
END:STANDARD
END:VTIMEZONE
BEGIN:VEVENT
DTSTART;VALUE=DATE:20251126
DTEND;VALUE=DATE:20251217
DTSTAMP:20260419T093616
CREATED:20251201T223629Z
LAST-MODIFIED:20251201T223629Z
UID:1866-1764115200-1765929599@md49lionevents.org
SUMMARY:Sleeping Lady Mt Lions “TREE OF GIVNG”
DESCRIPTION:Tree of Giving Merchant Locations\n(November 26- December 16)Jitter’sFirst National Bank AlaskaGreat Alaska Pizza CoCountry Financial Melissa IzattHarry J McDonald CenterJason’s Donuts
URL:https://md49lionevents.org/event/sleeping-lady-mt-lions-tree-of-givng/
LOCATION:Eagle River\, AK\, United States
END:VEVENT
BEGIN:VEVENT
DTSTART;TZID=America/Anchorage:20251203T080000
DTEND;TZID=America/Anchorage:20251203T170000
DTSTAMP:20260419T093616
CREATED:20250303T202522Z
LAST-MODIFIED:20250408T173037Z
UID:585-1764748800-1764781200@md49lionevents.org
SUMMARY:Willow Lions Giving Tree and Toy Donation
DESCRIPTION:Check out what our Lions Giving Tree project. Last year ww had a wonderful time wrapping gifts for 114 of our community children in need! \nGiving tree tags:                                                Toy donations: \n1 take a take for a boy or girl and age.          1 Teenagers-  tools\, bball\, vball\, games\, sleds\, candles \n2 they have ideas of what they want.            2  preteens- craft kits\, games\, fishing supplies\, frisbee \n3 return unwrapped gift to Library.                3  we need  gifts for older age kids but a toy will do
URL:https://md49lionevents.org/event/willow-lions-giving-tree-and-toy-donation/
LOCATION:Willow Community Center\, MP 69.5 Parks Highway\, Willow\, AK\, 99688\, United States
END:VEVENT
BEGIN:VEVENT
DTSTART;TZID=America/Anchorage:20251205T170000
DTEND;TZID=America/Anchorage:20251206T210000
DTSTAMP:20260419T093616
CREATED:20251201T230339Z
LAST-MODIFIED:20251204T192811Z
UID:1872-1764954000-1765054800@md49lionevents.org
SUMMARY:Christmas Bazaar on the Slope
DESCRIPTION:
URL:https://md49lionevents.org/event/christmas-bazaar-on-the-slope/
LOCATION:Ipalook Elementary School\, 2079 Ahkovak St\, Utqiagvik\, AK\, 99723\, United States
END:VEVENT
BEGIN:VEVENT
DTSTART;TZID=America/Anchorage:20251206T100000
DTEND;TZID=America/Anchorage:20251206T120000
DTSTAMP:20260419T093616
CREATED:20251116T204017Z
LAST-MODIFIED:20251202T175330Z
UID:1779-1765015200-1765022400@md49lionevents.org
SUMMARY:Breakfast with Santa
DESCRIPTION:  \nBring your  family and join Santa for Breakfast! We will be hosting a free breakfast December 6th from 10am – 12noon. Any monetary donation is appreciated but not required\, all funds raised will go towards our fundraiser for Providence Pediatric Cancer Center.
URL:https://md49lionevents.org/event/breakfast-with-santa/
LOCATION:Eagle River Lions Park\, 18344 Eagle River Rd\, Eagle River\, AK\, 99577\, United States
END:VEVENT
BEGIN:VEVENT
DTSTART;VALUE=DATE:20251213
DTEND;VALUE=DATE:20251214
DTSTAMP:20260419T093616
CREATED:20251212T024205Z
LAST-MODIFIED:20251212T024323Z
UID:1900-1765584000-1765670399@md49lionevents.org
SUMMARY:National Wreaths Across America Day
DESCRIPTION:The Sleeping Lady Mountain Lions Club invites community members to participate in honoring local heroes by sponsoring wreaths for veterans’ graves.\n\n\nThe event is scheduled for December 13\, 2025\, coinciding with National Wreaths Across America\n\nThe Sleeping Lady Mountain Lions Club invites community members to participate in honoring local heroes by sponsoring wreaths for veterans’ graves.\n\n\n\nDonations can be made online by scanning a QR code or visiting the specified website: www.wreathsacrossamerica.org/AK0034.\n\n.
URL:https://md49lionevents.org/event/national-wreaths-across-america-day/
LOCATION:Fort Richardson National Cemetary\, 58-512 Davis Hwy\, Joint Base Elmendorf-Richardson\, AK\, 99505\, United States
END:VEVENT
BEGIN:VEVENT
DTSTART;TZID=America/Anchorage:20251213T080000
DTEND;TZID=America/Anchorage:20251213T110000
DTSTAMP:20260419T093616
CREATED:20251129T035034Z
LAST-MODIFIED:20251201T222133Z
UID:1856-1765612800-1765623600@md49lionevents.org
SUMMARY:Colony Christmas Breakfast Buffet
DESCRIPTION:  \n \nStart your Colony Christmas Day with an extra special breakfast!!!
URL:https://md49lionevents.org/event/colony-christmas-breakfast-buffet/
LOCATION:Palmer Moose Lodge\, 1136 S Cobb St\, Palmer\, AK\, United States
END:VEVENT
BEGIN:VEVENT
DTSTART;TZID=America/Anchorage:20251219T160000
DTEND;TZID=America/Anchorage:20251219T223000
DTSTAMP:20260419T093616
CREATED:20250309T060511Z
LAST-MODIFIED:20250408T170053Z
UID:812-1766160000-1766183400@md49lionevents.org
SUMMARY:Light Flights over Juneau
DESCRIPTION:Light Flights:  Some time just before Christmas\, you’ll find Lion members and volunteers huddling around outside in the cold winter weather\, trying to keep warm.  It doesn’t matter if the temps are in the low teens and the Taku Winds are blowing sideways\, this annual fundraiser always brings a smile to the participants.  With the cooperation of Coastal Helicopters who donate their time\, copters\, and fuel\, we take passengers on a helicopter ride over the Mendenhall Valley to view Christmas lights.  We average about 300 passengers a year\, during a four-hour period.  The proceeds from this event are shared with Coastal Helicopters\, whose chosen charity is the Children’s Tumor Foundation and our share of the proceeds goes into other sight projects.
URL:https://md49lionevents.org/event/light-flights-over-juneau/
LOCATION:Juneau International Airport\, 1873 Shell Simmons Dr\, Juneau\, AK\, 99801\, United States
END:VEVENT
BEGIN:VEVENT
DTSTART;TZID=America/Anchorage:20251220T190000
DTEND;TZID=America/Anchorage:20251220T210000
DTSTAMP:20260419T093616
CREATED:20251122T182445Z
LAST-MODIFIED:20251219T195403Z
UID:1845-1766257200-1766264400@md49lionevents.org
SUMMARY:Big Lake Lions Christmas Parade
DESCRIPTION:Join us for our Annual Christmas Parade of Lights!\nThe parade will start at 7pm.\nAll registered vehicles will line up at the Big Lake Elementary Bus loop\, and drive along Big Lake Road through the Roundabout.\nLink to Register in the Parade:\n            https://forms.gle/AkzviZPdzFJFbmPi6
URL:https://md49lionevents.org/event/big-lake-lions-christmas-parade/
LOCATION:Big Lake Lions Rec\, 3261 S Big Lake Rd\, Wasilla\, AK\, 99623-9663\, United States
END:VEVENT
BEGIN:VEVENT
DTSTART;TZID=America/Anchorage:20251225T120000
DTEND;TZID=America/Anchorage:20251225T140000
DTSTAMP:20260419T093616
CREATED:20250303T203244Z
LAST-MODIFIED:20260223T023933Z
UID:589-1766664000-1766671200@md49lionevents.org
SUMMARY:Eagle River Lions Free Christmas Dinner
DESCRIPTION:Annual Free Community Christmas Dinner organized\nby the Eagle River Lions Clubs. \nTo go orders available. Open to the public. \n  \n 
URL:https://md49lionevents.org/event/free-christmas-dinner-to-the-comunity/
LOCATION:Eagle River Lions Park\, 18344 Eagle River Rd\, Eagle River\, AK\, 99577\, United States
END:VEVENT
END:VCALENDAR