BEGIN:VCALENDAR
VERSION:2.0
PRODID:-//Alaska Lions Events - ECPv6.15.20//NONSGML v1.0//EN
CALSCALE:GREGORIAN
METHOD:PUBLISH
X-WR-CALNAME:Alaska Lions Events
X-ORIGINAL-URL:https://md49lionevents.org
X-WR-CALDESC:Events for Alaska Lions Events
REFRESH-INTERVAL;VALUE=DURATION:PT1H
X-Robots-Tag:noindex
X-PUBLISHED-TTL:PT1H
BEGIN:VTIMEZONE
TZID:America/Anchorage
BEGIN:DAYLIGHT
TZOFFSETFROM:-0900
TZOFFSETTO:-0800
TZNAME:AKDT
DTSTART:20250309T110000
END:DAYLIGHT
BEGIN:STANDARD
TZOFFSETFROM:-0800
TZOFFSETTO:-0900
TZNAME:AKST
DTSTART:20251102T100000
END:STANDARD
BEGIN:DAYLIGHT
TZOFFSETFROM:-0900
TZOFFSETTO:-0800
TZNAME:AKDT
DTSTART:20260308T110000
END:DAYLIGHT
BEGIN:STANDARD
TZOFFSETFROM:-0800
TZOFFSETTO:-0900
TZNAME:AKST
DTSTART:20261101T100000
END:STANDARD
BEGIN:DAYLIGHT
TZOFFSETFROM:-0900
TZOFFSETTO:-0800
TZNAME:AKDT
DTSTART:20270314T110000
END:DAYLIGHT
BEGIN:STANDARD
TZOFFSETFROM:-0800
TZOFFSETTO:-0900
TZNAME:AKST
DTSTART:20271107T100000
END:STANDARD
END:VTIMEZONE
BEGIN:VEVENT
DTSTART;TZID=America/Anchorage:20260116T170000
DTEND;TZID=America/Anchorage:20260116T190000
DTSTAMP:20260419T075859
CREATED:20250920T035547Z
LAST-MODIFIED:20250920T035547Z
UID:1739-1768582800-1768590000@md49lionevents.org
SUMMARY:Willow Lions Skate Night
DESCRIPTION:Willow Lions Skate Night\nCome and join us at our Skate Night\, once a month\, Sept- April (except Dec)\n2026 – Jan 16th\,  Feb. 20th\,  March 20th and April 17th.
URL:https://md49lionevents.org/event/willow-lions-skate-night-4/
LOCATION:Willow Elementary School\, 31706 Parks Hwy\, Willow\, AK\, 99688\, United States
END:VEVENT
BEGIN:VEVENT
DTSTART;TZID=America/Anchorage:20260124T084500
DTEND;TZID=America/Anchorage:20260124T140000
DTSTAMP:20260419T075859
CREATED:20251116T221304Z
LAST-MODIFIED:20251118T000350Z
UID:1814-1769244300-1769263200@md49lionevents.org
SUMMARY:Third District 49A Cabinet Meeting
DESCRIPTION:DG Robert Posma’s 3rd District 49A Cabinet Meeting will be on Jan 24\, 2026 at the Eagle River Lions Club House. Come and join us. You’ll hear what the committees have done to promote our Lions projects. Stay for lunch. We always have exciting luncheon speakers. Then we’ll have the zone and club reports. Come and brag about what your club did since Midwinter. We love to tell everyone what our clubs are doing in our communities.
URL:https://md49lionevents.org/event/third-district-49a-cabinet-meeting/
LOCATION:Eagle River Lions Park\, 18344 Eagle River Rd\, Eagle River\, AK\, 99577\, United States
END:VEVENT
BEGIN:VEVENT
DTSTART;TZID=America/Anchorage:20260131T100000
DTEND;TZID=America/Anchorage:20260131T140000
DTSTAMP:20260419T075859
CREATED:20251118T013649Z
LAST-MODIFIED:20260121T211404Z
UID:1827-1769853600-1769868000@md49lionevents.org
SUMMARY:49B Cabinet Meeting
DESCRIPTION:The 3rd 49B Cabinet Meeting will hosted by the North Pole Lions at 10AM at the ABLERC at 2925 Newby Rd\, North Pole\, AK. Lunch will be provided.\nThe COG meeting will follow at 2PM. Zoom will be available.
URL:https://md49lionevents.org/event/49b-third-cabinet-meeting/
LOCATION:Aurora Borealis Lions Eyeglass Recycling Center\, 2925 Newby Rd\, North Pole\, AK\, United States
END:VEVENT
BEGIN:VEVENT
DTSTART;TZID=America/Anchorage:20260131T110000
DTEND;TZID=America/Anchorage:20260131T170000
DTSTAMP:20260419T075859
CREATED:20260109T023746Z
LAST-MODIFIED:20260221T063110Z
UID:1913-1769857200-1769878800@md49lionevents.org
SUMMARY:Free Eye Clinic
DESCRIPTION:   Open to all ages\, pediatrics to geriatrics. All are welcome.\nVolunteers needed- doctors\, nurses\, technicians\, parking attendants and general volunteers for paperwork.\n 
URL:https://md49lionevents.org/event/free-eye-clinic/
LOCATION:Mt View Lions Club House\, 501 N Pine St\, Anchorage\, AK\, 99508\, United States
ORGANIZER;CN="District 49A Vision Team":MAILTO:ewest@gci.net
END:VEVENT
END:VCALENDAR