BEGIN:VCALENDAR
VERSION:2.0
PRODID:-//Alaska Lions Events - ECPv6.15.20//NONSGML v1.0//EN
CALSCALE:GREGORIAN
METHOD:PUBLISH
X-WR-CALNAME:Alaska Lions Events
X-ORIGINAL-URL:https://md49lionevents.org
X-WR-CALDESC:Events for Alaska Lions Events
REFRESH-INTERVAL;VALUE=DURATION:PT1H
X-Robots-Tag:noindex
X-PUBLISHED-TTL:PT1H
BEGIN:VTIMEZONE
TZID:Antarctica/Palmer
BEGIN:STANDARD
TZOFFSETFROM:-0300
TZOFFSETTO:-0300
TZNAME:-03
DTSTART:20250101T000000
END:STANDARD
END:VTIMEZONE
BEGIN:VTIMEZONE
TZID:America/Anchorage
BEGIN:DAYLIGHT
TZOFFSETFROM:-0900
TZOFFSETTO:-0800
TZNAME:AKDT
DTSTART:20250309T110000
END:DAYLIGHT
BEGIN:STANDARD
TZOFFSETFROM:-0800
TZOFFSETTO:-0900
TZNAME:AKST
DTSTART:20251102T100000
END:STANDARD
BEGIN:DAYLIGHT
TZOFFSETFROM:-0900
TZOFFSETTO:-0800
TZNAME:AKDT
DTSTART:20260308T110000
END:DAYLIGHT
BEGIN:STANDARD
TZOFFSETFROM:-0800
TZOFFSETTO:-0900
TZNAME:AKST
DTSTART:20261101T100000
END:STANDARD
BEGIN:DAYLIGHT
TZOFFSETFROM:-0900
TZOFFSETTO:-0800
TZNAME:AKDT
DTSTART:20270314T110000
END:DAYLIGHT
BEGIN:STANDARD
TZOFFSETFROM:-0800
TZOFFSETTO:-0900
TZNAME:AKST
DTSTART:20271107T100000
END:STANDARD
END:VTIMEZONE
BEGIN:VEVENT
DTSTART;TZID=Antarctica/Palmer:20260821T110000
DTEND;TZID=Antarctica/Palmer:20260907T220000
DTSTAMP:20260419T124519
CREATED:20260223T005929Z
LAST-MODIFIED:20260223T010610Z
UID:2148-1787310000-1788818400@md49lionevents.org
SUMMARY:Alaska State Fair Visionscreening
DESCRIPTION:District 49 A Lions Clubs will be offering free Visionscreening every day at the fair out of the district vision trailer. The fairgrounds will be closed on Tuesdays and Wednesdays.
URL:https://md49lionevents.org/event/alaska-state-fair-visionscreening-2/
LOCATION:Alaska State Fairgrounds\, 2075 Glen Hwy\, Palmer\, AK\, 99645\, United States
END:VEVENT
BEGIN:VEVENT
DTSTART;VALUE=DATE:20260903
DTEND;VALUE=DATE:20260906
DTSTAMP:20260419T124519
CREATED:20260223T014208Z
LAST-MODIFIED:20260223T014241Z
UID:2155-1788393600-1788652799@md49lionevents.org
SUMMARY:USA/Canada Leadership Forum
DESCRIPTION:To register:\nhttps://members.lionsforum.org/event-6327053\nForum website:\nhttps://lionsforum.org\nThe 2026 Memphis Forum is being held at the Renasant Convention Center\, which connects to the Sheraton Memphis Downtown Hotel via skybridge across Main Street. The Sheraton Memphis Downtown Hotel is the headquarters hotel. Other Forum hotel options are within walking distance to the Renasant Convention Center.
URL:https://md49lionevents.org/event/usa-canada-leadership-forum/
LOCATION:Waterfront Convention Center\, 777 Harrah’s Blvd\, Memphis\, TN\, United States
END:VEVENT
BEGIN:VEVENT
DTSTART;TZID=America/Anchorage:20260911T050000
DTEND;TZID=America/Anchorage:20260913T200000
DTSTAMP:20260419T124519
CREATED:20260124T005856Z
LAST-MODIFIED:20260220T070830Z
UID:1947-1789102800-1789329600@md49lionevents.org
SUMMARY:RAM/Lions Club Medical Clinic
DESCRIPTION:Remote Area Medical/Lions Club Medical Clinic\nRemote Area Medical – RAM® provides free healthcare clinics in Alaska to help meet the medical\, dental\, and vision needs of underserved communities. Our mobile\, pop-up clinics are designed to bring care directly to those who need it most\, with services including dental cleanings\, fillings\, extractions\, eye exams\, and prescription glasses made on-site.\n  \n            Sign Up at: https://www.ramusa.org/volunteer/
URL:https://md49lionevents.org/event/ram-lions-club-medical-clinic/
LOCATION:Carlson Center\, 2010 2nd Ave\, Fairbanks\, AK\, 99701\, United States
END:VEVENT
BEGIN:VEVENT
DTSTART;TZID=America/Anchorage:20260912T130000
DTEND;TZID=America/Anchorage:20260912T180000
DTSTAMP:20260419T124519
CREATED:20260223T021116Z
LAST-MODIFIED:20260223T021224Z
UID:2162-1789218000-1789236000@md49lionevents.org
SUMMARY:4th Annual Pacific Community of Alaska Health Fair
DESCRIPTION:This blog is for the past years health fair. A new flyer will be put up when received.\n\n\nPCA asks you to kindly ‘SAVE THE DATE’ for our\n4th Annual Health and Resource Fair on Sept 12h\, 2026!\nSupport PCA.  Strengthen community!
URL:https://md49lionevents.org/event/4th-annual-pacific-community-of-alaska-health-fair/
LOCATION:Boys and Girls Club\, 315 Price St\, Anchorage\, AK\, United States
END:VEVENT
BEGIN:VEVENT
DTSTART;TZID=America/Anchorage:20260918T050000
DTEND;TZID=America/Anchorage:20260920T200000
DTSTAMP:20260419T124519
CREATED:20260124T014922Z
LAST-MODIFIED:20260220T070721Z
UID:1965-1789707600-1789934400@md49lionevents.org
SUMMARY:RAM/Lions Club Medical Clinic
DESCRIPTION:Remote Area Medical/Lions Club Medical Clinic\nRemote Area Medical – RAM® provides free healthcare clinics in Alaska to help meet the medical\, dental\, and vision needs of underserved communities. Our mobile\, pop-up clinics are designed to bring care directly to those who need it most\, with services including dental cleanings\, fillings\, extractions\, eye exams\, and prescription glasses made on-site.\n\n            Sign Up at: https://www.ramusa.org/volunteer/
URL:https://md49lionevents.org/event/ram-lions-club-medical-clinic-5/
LOCATION:Sullivan Arena\, 1600 Gambell St\, Anchorage\, AK\, 99501\, United States
END:VEVENT
END:VCALENDAR